Workbook
Name _bsx2: '[1]FR-Hinged'!$G$4
Name _bsz2: '[1]FR-Hinged'!$H$4
Name BaselineMassCG: [2]Main!$J$17
Name bsx: '[1]FR-Hinged'!$G$2
Name bsx4BT: '[1]FR-Hinged4BarTq'!$G$5
Name bsz: '[1]FR-Hinged'!$H$2
Name Cannon: [1]Main!$F$13
Name CaseLbl: [1]Main!$I$1
Name CBfrc_tq1: [1]CntrBal!$A$5
Name CBfrc_tq2: [1]CntrBal!$A$25
Name CBgas_mech1: [1]CntrBal!$A$6
Name CBgas_mech2: [1]CntrBal!$A$26
Name CLM: [1]Main!$C$2
Name csx: #REF!
Name csz: #REF!
Name cvl_a: [1]CVL!$B$2
Name cvl_b: [1]CVL!$B$3
Name cvlfu: [1]CVL!$O$3
Name cvlpu: [1]CVL!$O$2
Name cyllen: [1]CntrBal!$J$20
Name DebugOption: [1]Main!$E$10
Name degC: [1]CntrBal!$J$6
Name degC_cold: [1]CntrBal!$J$5
Name degC_hot: [1]CntrBal!$J$3
Name degC_nom: [1]CntrBal!$J$4
Name densityair: [1]Main!$S$1
Name Dtnt0: [1]MakePlots!$A$117
Name Dtnt2: [1]MakePlots!$A$118
Name Dtnt3: [1]MakePlots!$A$119
Name ecgx: '[1]FR-Hinged'!$B$11
Name ecgx4BT: '[1]FR-Hinged4BarTq'!$B$10
Name ecgz: '[1]FR-Hinged'!$C$11
Name ecgz4BT: '[1]FR-Hinged4BarTq'!$C$10
Name Emax_strt: [1]Main!$I$3
Name FBbsx: '[1]FR-4Bar'!$H$2
Name FBbsy2: '[1]FR-4Bar'!$J$4
Name FBbsz: '[1]FR-4Bar'!$I$2
Name FBcsy2: '[1]FR-4Bar'!$J$5
Name FBH1x: '[1]FR-4Bar'!$B$8
Name FBH1z: '[1]FR-4Bar'!$C$8
Name flg: [2]Main!$E$4
Name forceratio: #REF!
Name frspmass: #REF!
Name frspmass4BT: #REF!
Name hcx: '[1]FR-Hinged'!$B$8
Name hcx4BT: '[1]FR-Hinged4BarTq'!$B$7
Name hcz: '[1]FR-Hinged'!$C$8
Name hcz4BT: '[1]FR-Hinged4BarTq'!$C$7
Name hngcx: '[1]FR-Hinged'!$B$7
Name hngcx4BT: '[1]FR-Hinged4BarTq'!$B$6
Name hngcz: '[1]FR-Hinged'!$C$7
Name hngcz4BT: '[1]FR-Hinged4BarTq'!$C$6
Name hox: '[1]FR-Hinged'!$B$9
Name hox4BT: '[1]FR-Hinged4BarTq'!$B$8
Name hoz: '[1]FR-Hinged'!$C$9
Name hoz4BT: '[1]FR-Hinged4BarTq'!$C$8
Name ImportIndx: #REF!
Name inertia: [1]Main!$D$6
Name init: [2]Main!$C$30
Name inputpage: #REF!

Sheet 说明
D6: 1，不可改变本表文件结构。
D7: 2，不可修改本表表名。
D8: 3，除白色可填区域，不建议修改其他区域信息。
D9: 4，本表中涉及到的X/Y/Z坐标体系均为整车坐标系，X为整车前后方向，向后为正；Y为整车左右方向，向右为正；Z为上下方向，向上为正。
D10: 5, 密封条CLD参数需要用到一个自定义的函数，用来将CLD数据拟合成样条曲线再输入，所以需要允许宏运行。
D11: 6，可按Alt+F11打开宏进行检查其安全性。
D12: 7，红色表为必填表，黑色表选填，可应用默认值。

Sheet 车门总成
B1: 项目名称 | D1: _test | K1: =MATCH(D2,K2:K5,0) -> 1 | L1: =OFFSET(L1,K1,0) -> 1
B2: 分析模块 | D2: 侧门系统分析 | K2: 侧门系统分析 | L2: 1
D3: X/mm | E3: Y/mm | F3: Z/mm | G3: 重量(Kg) | H3: 绕铰链轴的转动惯量(Kg.m2) | K3: 单轴铰链前后盖分析 | L3: 2
B4: 门盖总成重量中心 | D4: 5470 | E4: 4.6 | F4: 1751.39 | G4: 53 | H4: 15 | K4: 四连杆铰链前后盖分析 | L4: 3
D5: X/mm | E5: Y/mm | F5: Z/mm | G5: 摩擦扭矩(Nm) | K5: 平开尾门分析 | L5: 7
B6: 车门或前后盖单轴铰链 | C6: 铰链轴点1 | D6: 5130.77 | E6: 378 | F6: 2243.64 | G6: 2
C7: 铰链轴点2
B8: 四连杆铰链 | C8: 四连杆铰链轴点1 | G8: 0
C9: 四连杆铰链轴点2 | G9: 0
C10: 四连杆铰链轴点3 | G10: 0
C11: 四连杆铰链轴点4 | G11: 0
D12: X/mm | E12: Y/mm | F12: Z/mm
B13: 门锁啮合点 | D13: 5609.3 | E13: 0 | F13: 1237.45
B14: 平衡件1 | C14: 车身侧轴心点 | D14: 5194.8 | E14: 588.7 | F14: 2089.385
C15: 门盖侧轴心点 | D15: 5538.31 | E15: 672.21 | F15: 1741.256
B16: 平衡件2 | C16: 车身侧轴心点
C17: 门盖侧轴心点
B18: 把手 | C18: 尾门或车门外把手 | D18: 5680 | E18: 424 | F18: 1197
C19: 尾门内把手 | D19: 5544 | E19: 350 | F19: 1256
B20: 前后盖尖角 | D20: 4000 | E20: 558.9 | F20: 1000
B21: 测速仪位置 | D21: 5610.3 | E21: 0 | F21: 1230.45

Sheet 平衡件
A1: 配置 | C1: 曲线 | H1: 当前选择的序号 | I1: =MATCH(B2,H3:H8,0) -> 2 | K1: =OFFSET(K2,$I$1,0) -> 0 | L1: =OFFSET(L2,$I$1,0) -> 1 | M1: =OFFSET(M2,$I$1,0) -> 0
A2: 平衡件类型 | B2: 气弹簧 | C2: =IF(B2="限位器","角度(°)","伸长量(mm，从0开始)") -> 伸长量(mm，从0开始) | D2: =IF(B2="限位器","关门扭矩（Nm)","伸长过程的反力(N）") -> 伸长过程的反力(N） | E2: =IF(B2="限位器","开门扭矩（Nm)","压缩过程的反力(N）") -> 压缩过程的反力(N） | I2: 数量 | K2: StrutConfigChoice | L2: CBgas_mech1 | M2: CBgas_mech2
A3: 数量 | B3: 2 | C3: 0 | D3: 1251.9 | E3: 1301.9 | F3: =OFFSET(G2,I1,0) -> 气弹簧数据最多20组，一般F1-F4即可 | G3: 限位器数据最多90组 | H3: 限位器 | I3: 1 | K3: -1 | L3: 0 | M3: 0
A4: =IF(OR(B2="气弹簧",B2=H8),"气弹簧1杆外直径(mm)","") -> 气弹簧1杆外直径(mm) | B4: 10 | C4: 149.7 | D4: 737.2 | E4: 787.2 | F4: 使门盖朝开启方向运动的力为正， | G4: 气弹簧数据最多20组，一般F1-F4即可 | H4: 气弹簧 | I4: 1 | J4: 2 | K4: =ABS(B3-2) -> 0 | L4: 1 | M4: 0
A5: =IF(OR(B2="气弹簧",B2=H8),"气弹簧1管内直径(mm)","") -> 气弹簧1管内直径(mm) | B5: 22 | F5: 朝关闭方向运动的力为负。 | G5: 电撑杆数据最多20组 | H5: 电撑杆 | I5: 1 | J5: 2 | K5: =ABS(B3-2) -> 0 | L5: 0 | M5: 0
A6: =IF(B2=H8,"气弹簧2杆外直径(mm)","") | G6: 电撑杆数据最多20组 | H6: 电撑杆_平衡杆 | I6: 2 | K6: 2 | L6: 0 | M6: 0
A7: =IF(B2=H8,"气弹簧2管内直径(mm)","") | G7: 弹簧数据最多20组 | H7: 机械弹簧 | I7: 1 | J7: 2 | K7: =ABS(B3-2) -> 0 | L7: 0 | M7: 0
G8: 气弹簧数据最多20组，一般F1-F4即可 | H8: 两根不同的气弹簧 | I8: 2 | K8: 2 | L8: 1 | M8: 1
C23: 1 | F23: =IF(K1>1,"←第二根杆的数据从这行开始","")
F24: =IF(K1>1,OFFSET(G2,I1,0),"")

Sheet 锁
A1: 门锁
A2: 半锁行程 | B2: 6
A3: 单锁的静态最大上锁力(N） | B3: 40
A4: 实测车门的静态锁止力(N) | B4: 280
A5: 锁扣不对中导致的增加反力的比例 (N/mm) | B5: 20
A6: 锁反力曲线
A8: 啮合距离(mm) | B8: 反力 (N)
A9: -1 | B9: 132
A10: 0 | B10: 37
A11: 1 | B11: 25
A12: 2 | B12: 20
A13: 3 | B13: 16
A14: 4 | B14: 15
A15: 5 | B15: 7
A16: 6 | B16: 4
A17: 7 | B17: 2
A18: 8 | B18: 1
A19: 9 | B19: 1
A20: 10 | B20: 0

Sheet 密封条几何
A1: 主密封 | H1: 次密封 | O1: 辅密封
A2: 密封条上的点数 | D2: 40 | E2: 如果是开环密封条要加"-"号 | H2: 密封条上的点数 | K2: 0 | L2: 如果是开环密封条要加"-"号 | O2: 密封条上的点数 | R2: 0 | S2: 如果是开环密封条要加"-"号
E3: 密封间隙 | F3: CLD | L3: 密封间隙 | M3: CLD | S3: 密封间隙 | T3: CLD
A4: 编号 | B4: x (mm) | C4: y (mm) | D4: z (mm) | E4: 调整量(mm) | F4: 编号 | H4: 编号 | I4: x (mm) | J4: y (mm) | K4: z (mm) | L4: 调整量(mm) | M4: 编号 | O4: 编号 | P4: x (mm) | Q4: y (mm) | R4: z (mm) | S4: 调整量(mm) | T4: 编号 | V4: CATIA导出点坐标方法
A5: 1 | B5: 5202.474 | C5: -14.796 | D5: 2208.064 | F5: 1
A6: 2 | B6: 5202.632 | C6: 91.322 | D6: 2207.64 | F6: 1
A7: 3 | B7: 5203.265 | C7: 197.424 | D7: 2205.939 | F7: 1
A8: 4 | B8: 5204.542 | C8: 303.478 | D8: 2202.507 | F8: 1
A9: 5 | B9: 5207.148 | C9: 409.139 | D9: 2193.938 | F9: 1
A10: 6 | B10: 5218.198 | C10: 501.666 | D10: 2147.174 | F10: 1
A11: 7 | B11: 5254.822 | C11: 552.227 | D11: 2062.737 | F11: 1
A12: 8 | B12: 5318.379 | C12: 574.789 | D12: 1981.164 | F12: 1
A13: 9 | B13: 5390.347 | C13: 588.975 | D13: 1904.487 | F13: 1
A14: 10 | B14: 5461.97 | C14: 601.097 | D14: 1827.135 | F14: 1
A15: 11 | B15: 5524.137 | C15: 612.162 | D15: 1742.116 | F15: 1
A16: 12 | B16: 5561.26 | C16: 621.401 | D16: 1643.514 | F16: 1
... A44: 40 | B44: 5202.757 | C44: -120.911 | D44: 2207.304 | F44: 1

Sheet 密封条CLD参数
A1: 主密封条CLD信息 | M1: 次密封条CLD信息 | Y1: 辅助密封条CLD信息
A2: 编号 | B2: 1 | C2: 编号 | D2: 2 | E2: 编号 | F2: 3 | G2: 编号 | H2: 4 | I2: 编号 | J2: 5 | K2: 编号 | L2: 6 | M2: 编号 | N2: 1 | O2: 编号 | P2: 2 | Q2: 编号 | R2: 3 | S2: 编号 | T2: 4 | U2: 编号 | V2: 5 | W2: 编号 | X2: 6 | Y2: 编号 | Z2: 1 | AA2: 编号 | AB2: 2 | AC2: 编号 | AD2: 3 | AE2: 编号 | AF2: 4 | AG2: 编号 | AH2: 5 | AI2: 编号 | AJ2: 6
A3: 设计位置压缩量(mm) | B3: 7 | C3: 设计位置压缩量(mm) | D3: 5.5 | E3: 设计位置压缩量(mm) | F3: 6.5 | G3: 设计位置压缩量(mm) | H3: 6 | I3: 设计位置压缩量(mm) | J3: 6.5 | K3: 设计位置压缩量(mm) | M3: 设计位置压缩量(mm) | N3: 2.5 | O3: 设计位置压缩量(mm) | P3: 4.7 | Q3: 设计位置压缩量(mm) | R3: 4.7 | S3: 设计位置压缩量(mm) | T3: 4.7 | U3: 设计位置压缩量(mm) | V3: 4.7 | W3: 设计位置压缩量(mm) | Y3: 设计位置压缩量(mm) | AA3: 设计位置压缩量(mm) | AB3: 5.5 | AC3: 设计位置压缩量(mm) | AD3: 4.75 | AE3: 设计位置压缩量(mm) | AG3: 设计位置压缩量(mm) | AI3: 设计位置压缩量(mm)
A4: 压缩量(mm) | B4: 密封条反力 (N/100mm) | C4: 压缩量(mm) | D4: 密封条反力 (N/100mm) | E4: 压缩量(mm) | F4: 密封条反力 (N/100mm) | G4: 压缩量(mm) | H4: 密封条反力 (N/100mm) | I4: 压缩量(mm) | J4: 密封条反力 (N/100mm) | K4: 压缩量(mm) | L4: 密封条反力 (N/100mm) | M4: 压缩量(mm) | N4: 密封条反力 (N/100mm) | O4: 压缩量(mm) | P4: 密封条反力 (N/100mm) | Q4: 压缩量(mm) | R4: 密封条反力 (N/100mm) | S4: 压缩量(mm) | T4: 密封条反力 (N/100mm) | U4: 压缩量(mm) | V4: 密封条反力 (N/100mm) | W4: 压缩量(mm) | X4: 密封条反力 (N/100mm) | Y4: 压缩量(mm) | Z4: 密封条反力 (N/100mm) | AA4: 压缩量(mm) | AB4: 密封条反力 (N/100mm) | AC4: 压缩量(mm) | AD4: 密封条反力 (N/100mm) | AE4: 压缩量(mm) | AF4: 密封条反力 (N/100mm) | AG4: 压缩量(mm) | AH4: 密封条反力 (N/100mm) | AI4: 压缩量(mm) | AJ4: 密封条反力 (N/100mm)
A5: 0 | B5: 0
A6: 1 | B6: 1
A7: 2 | B7: 2
A8: 3 | B8: 3.3
A9: 4 | B9: 4.3
A10: 5 | B10: 5
A11: 6 | B11: 6
A12: 7 | B12: 8
A13: 8 | B13: 8.5
A14: 9 | B14: 9

Sheet 整车泄露量输入
A1: 压力（Pa) | B1: 流速(CFM）
A2: 0 | B2: 0 | C2: 第一组一般为（0，0） | O2: 2
A3: 125 | B3: 100

Sheet 整车信息
A1: 整车重量 (kg) | B1: 2000
A2: 车辆内部容积 (m3) | B2: 3
A3: 门内饰窗台处的高度Z值(z; mm) | B3: 1000
A4: 车门内饰边缘的Y向高度平均值 (mm) | B4: 100
A5: 侧围与车门的间隙平均值 (mm) | B5: 1
A6: 车门主/辅密封间的压缩空气流出面积 (cm2)
A7: 车门主次密封条之间的其他排气孔面积 (cm2) | B7: 1
A8: 前后坡度(°) | B8: 0
A10: 测速仪距铰链轴 (mm) | B10: 1216
A11: 测速仪传感器相对安装底面的高度(mm) | B11: 86

Sheet 偏差设置
A1: 按比例调整大小 | B1: 铰链 | C1: 1
B2: 限位器 | C2: 1
B3: 锁 | C3: 1
C4: CLD1 | D4: CLD2 | E4: CLD3 | F4: CLD4 | G4: CLD5 | H4: CLD6
B5: 主密封条 | C5: 1 | D5: 1 | E5: 1 | F5: 1 | G5: 1 | H5: 1
B6: 次密封条 | C6: 1 | D6: 1 | E6: 1 | F6: 1 | G6: 1 | H6: 1
B7: 辅助密封条 | C7: 1 | D7: 1 | E7: 1 | F7: 1 | G7: 1 | H7: 1
C9: CLD1 | D9: CLD2 | E9: CLD3 | F9: CLD4 | G9: CLD5 | H9: CLD6
A10: 老化系数 （0-1之间） | B10: 主密封条 | C10: 0 | D10: 0 | E10: 0 | F10: 0 | G10: 0 | H10: 0
B11: 次密封条 | C11: 0 | D11: 0 | E11: 0 | F11: 0 | G11: 0 | H11: 0
B12: 辅助密封条 | C12: 0 | D12: 0 | E12: 0 | F12: 0 | G12: 0 | H12: 0
A14: 位置公差 | B14: 车门上铰链 | C14: 0
B15: 车门下铰链 | C15: 0
B16: 门锁垂直门洞方向的偏差 | C16: 0
B17: 门锁上下方向的偏差 | C17: 0

Sheet 其他设置
B1: 全开角度 | C1: 50 | D1: =MAX(#REF!) -> #REF! | F1: 参数设置 | G1: 高温（℃） | H1: 80
B2: 从什么角度开始计算（默认最大角度） | C2: 50 | G2: 常温（℃） | H2: 20
B3: 初始能量 | C3: 12.5687 | G3: 低温（℃） | H3: -30
B4: 按能量/速度计算 | C4: 1 | G4: 需要分析的温度（℃） | H4: 20
G5: 大气压(Pa) | H5: 101325
B6: 指定能量的单次关门分析 | C6: FALSE | G6: dt (时间的迭代步长初始值,单位秒) | H6: 0.005
B7: 是否计算开门？ | C7: FALSE | G7: 判断是否上锁的锁位置收敛准则（单位毫米） | H7: 0.01
G8: 车身-锁扣-锁-门系统一致性(mm/kN) | H8: 0
G9: 动能传递效率 (for seals and latch) | H9: 0.68
A10: 分析项设置 | B10: 是否分析重力 | C10: TRUE
B11: 是否分析限位器 | C11: TRUE
B12: 是否分析铰链 | C12: TRUE
B13: 是否分析整车空气阻力 | C13: TRUE
B14: 是否分析主次密封条空气阻力 | C14: FALSE
B15: 是否分析主密封反力 | C15: TRUE | H15: 主 | I15: 次 | J15: 辅
B16: 是否分析次密封反力 | C16: FALSE | F16: 密封条参数 | G16: 泡管等效宽度(mm)
B17: 是否分析辅助密封反力 | C17: FALSE | G17: 泡管最大压缩量 (mm)
B18: 是否分析锁反力 | C18: TRUE | G18: 排气孔直径 (mm)
B19: 是否分析动能传递损失 | C19: TRUE | G19: 排气孔间距 (mm)
B20: 是否计算主辅密封条间空气压力 | C20: FALSE
B21: 动态CLD | C21: FALSE
B22: 内饰气流阻力 | C22: FALSE
B23: 密封条气孔气流阻力 | C23: FALSE

Sheet InputPage
A1: 0 | B1: =车门总成!D1 -> _test | C1: =其他设置!H6 -> 0.005 | D1: =其他设置!H7 -> 0.01 | E1: =车门总成!G4 -> 53 | F1: =车门总成!H4 -> 15 | G1: =整车信息!B2 -> 3 | H1: =整车信息!B3 -> 1000 | I1: =整车信息!B4 -> 100 | J1: =整车信息!B5 -> 1 | K1: =整车信息!B1 -> 2000 | L1: =整车信息!B6 -> 0 | M1: =整车信息!B8 -> 0 | N1: =其他设置!H8 -> 0 | O1: =其他设置!H9 -> 0.68 | P1: =整车信息!B7 -> 1 | Q1: =密封条几何!D2 -> 40 | R1: =密封条几何!K2 -> 0 | S1: =密封条几何!R2 -> 0 | T1: =车门总成!D6 -> 5130.77 | U1: =车门总成!E6 -> 378 | V1: =车门总成!F6 -> 2243.64 | W1: =车门总成!D7 -> 0 | X1: =车门总成!E7 -> 0 | Y1: =车门总成!F7 -> 0 | Z1: =车门总成!D13 -> 5609.3 | AA1: =车门总成!E13 -> 0 | AB1: =车门总成!F13 -> 1237.45 | AC1: =车门总成!D4 -> 5470 | AD1: =车门总成!E4 -> 4.6 | AE1: =车门总成!F4 -> 1751.39 | AF1: =其他设置!H16 -> 0 | AG1: =其他设置!H17 -> 0 | AH1: =其他设置!H18 -> 0 | AI1: =其他设置!H19 -> 0 | AJ1: =其他设置!I16 -> 0 | AK1: =其他设置!I17 -> 0 | AL1: =其他设置!I18 -> 0 | AM1: =其他设置!I19 -> 0 | AN1: =其他设置!J16 -> 0 | AO1: =其他设置!J17 -> 0 | AP1: =其他设置!J18 -> 0 | AQ1: =其他设置!J19 -> 0 | AR1: =偏差设置!C14 -> 0 | AS1: =偏差设置!C15 -> 0 | AT1: =偏差设置!C16 -> 0 | AU1: =偏差设置!C17 -> 0 | AV1: =其他设置!C4 -> 1 | AW1: =其他设置!C3 -> 12.5687 | AX1: =其他设置!C2 -> 50 | AY1: 0 | AZ1: FALSE | BA1: 1 | BB1: FALSE | BC1: =其他设置!C6 -> FALSE | BD1: TRUE | BE1: =整车信息!B10 -> 1216 | BF1: =整车信息!B11 -> 86 | BG1: =其他设置!C10 -> TRUE | BH1: =其他设置!C11 -> TRUE | BI1: =其他设置!C12 -> TRUE | BJ1: =其他设置!C13 -> TRUE | BK1: =其他设置!C14 -> FALSE | BL1: =其他设置!C15 -> TRUE | BM1: =其他设置!C16 -> FALSE | BN1: =其他设置!C17 -> FALSE | BO1: =其他设置!C18 -> TRUE | BP1: =其他设置!C19 -> TRUE | BQ1: =其他设置!C20 -> FALSE | BR1: =其他设置!C21 -> FALSE | BS1: =其他设置!C22 -> FALSE | BT1: =其他设置!C23 -> FALSE | BU1: =锁!B3 -> 40 | BV1: =锁!B4 -> 280 | BW1: =其他设置!H5 -> 101325 | BX1: =车门总成!L1 -> 1 | BY1: =其他设置!C1 -> 50 | BZ1: =其他设置!C7 -> FALSE | CA1: =车门总成!G6 -> 2 | CB1: =偏差设置!C1 -> 1 | CC1: =平衡件!K1 -> 0 | CD1: TRUE | CE1: =平衡件!L1 -> 1 | CF1: TRUE | CG1: =平衡件!M1 -> 0 | CH1: =锁!B2 -> 6 | CI1: =IF(CC1=0,2,1) -> 2 | CJ1: =IF(CC1=2,1,0) -> 0 | CM1: =COUNTA(平衡件!C3:C22) -> 2 | CN1: =COUNTA(平衡件!C23:C42) -> 1 | CO1: FALSE | CP1: FALSE
A2: =密封条几何!B5 -> 5202.474 | B2: =密封条几何!B6 -> 5202.632 | C2: =密封条几何!B7 -> 5203.265 | D2: =密封条几何!B8 -> 5204.542 | E2: =密封条几何!B9 -> 5207.148 | F2: =密封条几何!B10 -> 5218.198 | G2: =密封条几何!B11 -> 5254.822 | H2: =密封条几何!B12 -> 5318.379 | I2: =密封条几何!B13 -> 5390.347 | J2: =密封条几何!B14 -> 5461.97 | K2: =密封条几何!B15 -> 5524.137 | L2: =密封条几何!B16 -> 5561.26 | M2: =密封条几何!B17 -> 5576.804 | N2: =密封条几何!B18 -> 5587.954 | O2: =密封条几何!B19 -> 5608.776 | P2: =密封条几何!B20 -> 5640.273 | Q2: =密封条几何!B21 -> 5666.491 | R2: =密封条几何!B22 -> 5681.142 | S2: =密封条几何!B23 -> 5689.842 | T2: =密封条几何!B24 -> 5694.916 | U2: =密封条几何!B25 -> 5696.855 | V2: =密封条几何!B26 -> 5695.764 | W2: =密封条几何!B27 -> 5691.589 | X2: =密封条几何!B28 -> 5683.997 | Y2: =密封条几何!B29 -> 5671.561 | Z2: =密封条几何!B30 -> 5648.683 | AA2: =密封条几何!B31 -> 5617.048 | AB2: =密封条几何!B32 -> 5592.379 | AC2: =密封条几何!B33 -> 5579.683 | AD2: =密封条几何!B34 -> 5567.061 | AE2: =密封条几何!B35 -> 5537.332 | AF2: =密封条几何!B36 -> 5481.044 | AG2: =密封条几何!B37 -> 5410.518 | AH2: =密封条几何!B38 -> 5338.237 | AI2: =密封条几何!B39 -> 5270.513 | AJ2: =密封条几何!B40 -> 5225.287 | AK2: =密封条几何!B41 -> 5208.65 | AL2: =密封条几何!B42 -> 5205.07 | AM2: =密封条几何!B43 -> 5203.544 | AN2: =密封条几何!B44 -> 5202.757 | AO2: =密封条几何!B45 -> 0 | AP2: =密封条几何!B46 -> 0 | AQ2: =密封条几何!B47 -> 0 | AR2: =密封条几何!B48 -> 0 | AS2: =密封条几何!B49 -> 0 | AT2: =密封条几何!B50 -> 0 | AU2: =密封条几何!B51 -> 0 | AV2: =密封条几何!B52 -> 0 | AW2: =密封条几何!B53 -> 0 | AX2: =密封条几何!B54 -> 0 | AY2: =密封条几何!B55 -> 0 | AZ2: =密封条几何!B56 -> 0 | BA2: =密封条几何!B57 -> 0 | BB2: =密封条几何!B58 -> 0 | BC2: =密封条几何!B59 -> 0 | BD2: =密封条几何!B60 -> 0 | BE2: =密封条几何!B61 -> 0 | BF2: =密封条几何!B62 -> 0 | BG2: =密封条几何!B63 -> 0 | BH2: =密封条几何!B64 -> 0 | BI2: =密封条几何!B65 -> 0 | BJ2: =密封条几何!B66 -> 0 | BK2: =密封条几何!B67 -> 0 | BL2: =密封条几何!B68 -> 0 | BM2: =密封条几何!B69 -> 0 | BN2: =密封条几何!B70 -> 0 | BO2: =密封条几何!B71 -> 0 | BP2: =密封条几何!B72 -> 0 | BQ2: =密封条几何!B73 -> 0 | BR2: =密封条几何!B74 -> 0 | BS2: =密封条几何!B75 -> 0 | BT2: =密封条几何!B76 -> 0 | BU2: =密封条几何!B77 -> 0 | BV2: =密封条几何!B78 -> 0 | BW2: =密封条几何!B79 -> 0 | BX2: =密封条几何!B80 -> 0 | BY2: =密封条几何!B81 -> 0 | BZ2: =密封条几何!B82 -> 0 | CA2: =密封条几何!B83 -> 0 | CB2: =密封条几何!B84 -> 0 | CC2: =密封条几何!B85 -> 0 | CD2: =密封条几何!B86 -> 0 | CE2: =密封条几何!B87 -> 0 | CF2: =密封条几何!B88 -> 0 | CG2: =密封条几何!B89 -> 0 | CH2: =密封条几何!B90 -> 0 | CI2: =密封条几何!B91 -> 0 | CJ2: =密封条几何!B92 -> 0 | CK2: =密封条几何!B93 -> 0 | CL2: =密封条几何!B94 -> 0 | CM2: =密封条几何!B95 -> 0 | CN2: =密封条几何!B96 -> 0 | CO2: =密封条几何!B97 -> 0 | CP2: =密封条几何!B98 -> 0 | CQ2: =密封条几何!B99 -> 0 | CR2: =密封条几何!B100 -> 0 | CS2: =密封条几何!B101 -> 0 | CT2: =密封条几何!B102 -> 0 | CU2: =密封条几何!B103 -> 0 | CV2: =密封条几何!B104 -> 0
A3: =密封条几何!C5 -> -14.796 | B3: =密封条几何!C6 -> 91.322 | C3: =密封条几何!C7 -> 197.424 | D3: =密封条几何!C8 -> 303.478 | E3: =密封条几何!C9 -> 409.139 | F3: =密封条几何!C10 -> 501.666 | G3: =密封条几何!C11 -> 552.227 | H3: =密封条几何!C12 -> 574.789 | I3: =密封条几何!C13 -> 588.975 | J3: =密封条几何!C14 -> 601.097 | K3: =密封条几何!C15 -> 612.162 | L3: =密封条几何!C16 -> 621.401 | M3: =密封条几何!C17 -> 627.386 | N3: =密封条几何!C18 -> 628.342 | O3: =密封条几何!C19 -> 609.149 | P3: =密封条几何!C20 -> 537.473 | Q3: =密封条几何!C21 -> 437.556 | R3: =密封条几何!C22 -> 332.621 | S3: =密封条几何!C23 -> 226.884 | T3: =密封条几何!C24 -> 120.893 | U3: =密封条几何!C25 -> 14.796 | V3: =密封条几何!C26 -> -91.314 | W3: =密封条几何!C27 -> -197.345 | X3: =密封条几何!C28 -> -303.176 | Y3: =密封条几何!C29 -> -408.479 | Z3: =密封条几何!C30 -> -510.789 | AA3: =密封条几何!C31 -> -594.629 | AB3: =密封条几何!C32 -> -626.602 | AC3: =密封条几何!C33 -> -628.306 | AD3: =密封条几何!C34 -> -623.453 | AE3: =密封条几何!C35 -> -614.983 | AF3: =密封条几何!C36 -> -604.292 | AG3: =密封条几何!C37 -> -592.49 | AH3: =密封条几何!C38 -> -579.106 | AI3: =密封条几何!C39 -> -560.293 | AJ3: =密封条几何!C40 -> -520.035 | AK3: =密封条几何!C41 -> -437.763 | AL3: =密封条几何!C42 -> -333.031 | AM3: =密封条几何!C43 -> -227.005 | AN3: =密封条几何!C44 -> -120.911 | AO3: =密封条几何!C45 -> 0 | AP3: =密封条几何!C46 -> 0 | AQ3: =密封条几何!C47 -> 0 | AR3: =密封条几何!C48 -> 0 | AS3: =密封条几何!C49 -> 0 | AT3: =密封条几何!C50 -> 0 | AU3: =密封条几何!C51 -> 0 | AV3: =密封条几何!C52 -> 0 | AW3: =密封条几何!C53 -> 0 | AX3: =密封条几何!C54 -> 0 | AY3: =密封条几何!C55 -> 0 | AZ3: =密封条几何!C56 -> 0 | BA3: =密封条几何!C57 -> 0 | BB3: =密封条几何!C58 -> 0 | BC3: =密封条几何!C59 -> 0 | BD3: =密封条几何!C60 -> 0 | BE3: =密封条几何!C61 -> 0 | BF3: =密封条几何!C62 -> 0 | BG3: =密封条几何!C63 -> 0 | BH3: =密封条几何!C64 -> 0 | BI3: =密封条几何!C65 -> 0 | BJ3: =密封条几何!C66 -> 0 | BK3: =密封条几何!C67 -> 0 | BL3: =密封条几何!C68 -> 0 | BM3: =密封条几何!C69 -> 0 | BN3: =密封条几何!C70 -> 0 | BO3: =密封条几何!C71 -> 0 | BP3: =密封条几何!C72 -> 0 | BQ3: =密封条几何!C73 -> 0 | BR3: =密封条几何!C74 -> 0 | BS3: =密封条几何!C75 -> 0 | BT3: =密封条几何!C76 -> 0 | BU3: =密封条几何!C77 -> 0 | BV3: =密封条几何!C78 -> 0 | BW3: =密封条几何!C79 -> 0 | BX3: =密封条几何!C80 -> 0 | BY3: =密封条几何!C81 -> 0 | BZ3: =密封条几何!C82 -> 0 | CA3: =密封条几何!C83 -> 0 | CB3: =密封条几何!C84 -> 0 | CC3: =密封条几何!C85 -> 0 | CD3: =密封条几何!C86 -> 0 | CE3: =密封条几何!C87 -> 0 | CF3: =密封条几何!C88 -> 0 | CG3: =密封条几何!C89 -> 0 | CH3: =密封条几何!C90 -> 0 | CI3: =密封条几何!C91 -> 0 | CJ3: =密封条几何!C92 -> 0 | CK3: =密封条几何!C93 -> 0 | CL3: =密封条几何!C94 -> 0 | CM3: =密封条几何!C95 -> 0 | CN3: =密封条几何!C96 -> 0 | CO3: =密封条几何!C97 -> 0 | CP3: =密封条几何!C98 -> 0 | CQ3: =密封条几何!C99 -> 0 | CR3: =密封条几何!C100 -> 0 | CS3: =密封条几何!C101 -> 0 | CT3: =密封条几何!C102 -> 0 | CU3: =密封条几何!C103 -> 0 | CV3: =密封条几何!C104 -> 0
A4: =密封条几何!D5 -> 2208.064 | B4: =密封条几何!D6 -> 2207.64 | C4: =密封条几何!D7 -> 2205.939 | D4: =密封条几何!D8 -> 2202.507 | E4: =密封条几何!D9 -> 2193.938 | F4: =密封条几何!D10 -> 2147.174 | G4: =密封条几何!D11 -> 2062.737 | H4: =密封条几何!D12 -> 1981.164 | I4: =密封条几何!D13 -> 1904.487 | J4: =密封条几何!D14 -> 1827.135 | K4: =密封条几何!D15 -> 1742.116 | L4: =密封条几何!D16 -> 1643.514 | M4: =密封条几何!D17 -> 1538.789 | N4: =密封条几何!D18 -> 1433.289 | O4: =密封条几何!D19 -> 1331.82 | P4: =密封条几何!D20 -> 1263.506 | Q4: =密封条几何!D21 -> 1241.458 | R4: =密封条几何!D22 -> 1236.449 | S4: =密封条几何!D23 -> 1234.591 | T4: =密封条几何!D24 -> 1233.775 | U4: =密封条几何!D25 -> 1233.507 | V4: =密封条几何!D26 -> 1233.655 | W4: =密封条几何!D27 -> 1234.291 | X4: =密封条几何!D28 -> 1235.768 | Y4: =密封条几何!D29 -> 1239.38 | Z4: =密封条几何!D30 -> 1253.933 | AA4: =密封条几何!D31 -> 1307.46 | AB4: =密封条几何!D32 -> 1404.087 | AC4: =密封条几何!D33 -> 1509.352 | AD4: =密封条几何!D34 -> 1614.573 | AE4: =密封条几何!D35 -> 1715.789 | AF4: =密封条几何!D36 -> 1804.74 | AG4: =密封条几何!D37 -> 1883.122 | AH4: =密封条几何!D38 -> 1959.654 | AI4: =密封条几何!D39 -> 2038.995 | AJ4: =密封条几何!D40 -> 2125.131 | AK4: =密封条几何!D41 -> 2186.682 | AL4: =密封条几何!D42 -> 2201.087 | AM4: =密封条几何!D43 -> 2205.191 | AN4: =密封条几何!D44 -> 2207.304 | AO4: =密封条几何!D45 -> 0 | AP4: =密封条几何!D46 -> 0 | AQ4: =密封条几何!D47 -> 0 | AR4: =密封条几何!D48 -> 0 | AS4: =密封条几何!D49 -> 0 | AT4: =密封条几何!D50 -> 0 | AU4: =密封条几何!D51 -> 0 | AV4: =密封条几何!D52 -> 0 | AW4: =密封条几何!D53 -> 0 | AX4: =密封条几何!D54 -> 0 | AY4: =密封条几何!D55 -> 0 | AZ4: =密封条几何!D56 -> 0 | BA4: =密封条几何!D57 -> 0 | BB4: =密封条几何!D58 -> 0 | BC4: =密封条几何!D59 -> 0 | BD4: =密封条几何!D60 -> 0 | BE4: =密封条几何!D61 -> 0 | BF4: =密封条几何!D62 -> 0 | BG4: =密封条几何!D63 -> 0 | BH4: =密封条几何!D64 -> 0 | BI4: =密封条几何!D65 -> 0 | BJ4: =密封条几何!D66 -> 0 | BK4: =密封条几何!D67 -> 0 | BL4: =密封条几何!D68 -> 0 | BM4: =密封条几何!D69 -> 0 | BN4: =密封条几何!D70 -> 0 | BO4: =密封条几何!D71 -> 0 | BP4: =密封条几何!D72 -> 0 | BQ4: =密封条几何!D73 -> 0 | BR4: =密封条几何!D74 -> 0 | BS4: =密封条几何!D75 -> 0 | BT4: =密封条几何!D76 -> 0 | BU4: =密封条几何!D77 -> 0 | BV4: =密封条几何!D78 -> 0 | BW4: =密封条几何!D79 -> 0 | BX4: =密封条几何!D80 -> 0 | BY4: =密封条几何!D81 -> 0 | BZ4: =密封条几何!D82 -> 0 | CA4: =密封条几何!D83 -> 0 | CB4: =密封条几何!D84 -> 0 | CC4: =密封条几何!D85 -> 0 | CD4: =密封条几何!D86 -> 0 | CE4: =密封条几何!D87 -> 0 | CF4: =密封条几何!D88 -> 0 | CG4: =密封条几何!D89 -> 0 | CH4: =密封条几何!D90 -> 0 | CI4: =密封条几何!D91 -> 0 | CJ4: =密封条几何!D92 -> 0 | CK4: =密封条几何!D93 -> 0 | CL4: =密封条几何!D94 -> 0 | CM4: =密封条几何!D95 -> 0 | CN4: =密封条几何!D96 -> 0 | CO4: =密封条几何!D97 -> 0 | CP4: =密封条几何!D98 -> 0 | CQ4: =密封条几何!D99 -> 0 | CR4: =密封条几何!D100 -> 0 | CS4: =密封条几何!D101 -> 0 | CT4: =密封条几何!D102 -> 0 | CU4: =密封条几何!D103 -> 0 | CV4: =密封条几何!D104 -> 0
A5: =密封条几何!E5 -> 0 | B5: =密封条几何!E6 -> 0 | C5: =密封条几何!E7 -> 0 | D5: =密封条几何!E8 -> 0 | E5: =密封条几何!E9 -> 0 | F5: =密封条几何!E10 -> 0 | G5: =密封条几何!E11 -> 0 | H5: =密封条几何!E12 -> 0 | I5: =密封条几何!E13 -> 0 | J5: =密封条几何!E14 -> 0 | K5: =密封条几何!E15 -> 0 | L5: =密封条几何!E16 -> 0 | M5: =密封条几何!E17 -> 0 | N5: =密封条几何!E18 -> 0 | O5: =密封条几何!E19 -> 0 | P5: =密封条几何!E20 -> 0 | Q5: =密封条几何!E21 -> 0 | R5: =密封条几何!E22 -> 0 | S5: =密封条几何!E23 -> 0 | T5: =密封条几何!E24 -> 0 | U5: =密封条几何!E25 -> 0 | V5: =密封条几何!E26 -> 0 | W5: =密封条几何!E27 -> 0 | X5: =密封条几何!E28 -> 0 | Y5: =密封条几何!E29 -> 0 | Z5: =密封条几何!E30 -> 0 | AA5: =密封条几何!E31 -> 0 | AB5: =密封条几何!E32 -> 0 | AC5: =密封条几何!E33 -> 0 | AD5: =密封条几何!E34 -> 0 | AE5: =密封条几何!E35 -> 0 | AF5: =密封条几何!E36 -> 0 | AG5: =密封条几何!E37 -> 0 | AH5: =密封条几何!E38 -> 0 | AI5: =密封条几何!E39 -> 0 | AJ5: =密封条几何!E40 -> 0 | AK5: =密封条几何!E41 -> 0 | AL5: =密封条几何!E42 -> 0 | AM5: =密封条几何!E43 -> 0 | AN5: =密封条几何!E44 -> 0 | AO5: =密封条几何!E45 -> 0 | AP5: =密封条几何!E46 -> 0 | AQ5: =密封条几何!E47 -> 0 | AR5: =密封条几何!E48 -> 0 | AS5: =密封条几何!E49 -> 0 | AT5: =密封条几何!E50 -> 0 | AU5: =密封条几何!E51 -> 0 | AV5: =密封条几何!E52 -> 0 | AW5: =密封条几何!E53 -> 0 | AX5: =密封条几何!E54 -> 0 | AY5: =密封条几何!E55 -> 0 | AZ5: =密封条几何!E56 -> 0 | BA5: =密封条几何!E57 -> 0 | BB5: =密封条几何!E58 -> 0 | BC5: =密封条几何!E59 -> 0 | BD5: =密封条几何!E60 -> 0 | BE5: =密封条几何!E61 -> 0 | BF5: =密封条几何!E62 -> 0 | BG5: =密封条几何!E63 -> 0 | BH5: =密封条几何!E64 -> 0 | BI5: =密封条几何!E65 -> 0 | BJ5: =密封条几何!E66 -> 0 | BK5: =密封条几何!E67 -> 0 | BL5: =密封条几何!E68 -> 0 | BM5: =密封条几何!E69 -> 0 | BN5: =密封条几何!E70 -> 0 | BO5: =密封条几何!E71 -> 0 | BP5: =密封条几何!E72 -> 0 | BQ5: =密封条几何!E73 -> 0 | BR5: =密封条几何!E74 -> 0 | BS5: =密封条几何!E75 -> 0 | BT5: =密封条几何!E76 -> 0 | BU5: =密封条几何!E77 -> 0 | BV5: =密封条几何!E78 -> 0 | BW5: =密封条几何!E79 -> 0 | BX5: =密封条几何!E80 -> 0 | BY5: =密封条几何!E81 -> 0 | BZ5: =密封条几何!E82 -> 0 | CA5: =密封条几何!E83 -> 0 | CB5: =密封条几何!E84 -> 0 | CC5: =密封条几何!E85 -> 0 | CD5: =密封条几何!E86 -> 0 | CE5: =密封条几何!E87 -> 0 | CF5: =密封条几何!E88 -> 0 | CG5: =密封条几何!E89 -> 0 | CH5: =密封条几何!E90 -> 0 | CI5: =密封条几何!E91 -> 0 | CJ5: =密封条几何!E92 -> 0 | CK5: =密封条几何!E93 -> 0 | CL5: =密封条几何!E94 -> 0 | CM5: =密封条几何!E95 -> 0 | CN5: =密封条几何!E96 -> 0 | CO5: =密封条几何!E97 -> 0 | CP5: =密封条几何!E98 -> 0 | CQ5: =密封条几何!E99 -> 0 | CR5: =密封条几何!E100 -> 0 | CS5: =密封条几何!E101 -> 0 | CT5: =密封条几何!E102 -> 0 | CU5: =密封条几何!E103 -> 0 | CV5: =密封条几何!E104 -> 0
A6: =密封条几何!F5 -> 1 | B6: =密封条几何!F6 -> 1 | C6: =密封条几何!F7 -> 1 | D6: =密封条几何!F8 -> 1 | E6: =密封条几何!F9 -> 1 | F6: =密封条几何!F10 -> 1 | G6: =密封条几何!F11 -> 1 | H6: =密封条几何!F12 -> 1 | I6: =密封条几何!F13 -> 1 | J6: =密封条几何!F14 -> 1 | K6: =密封条几何!F15 -> 1 | L6: =密封条几何!F16 -> 1 | M6: =密封条几何!F17 -> 1 | N6: =密封条几何!F18 -> 1 | O6: =密封条几何!F19 -> 1 | P6: =密封条几何!F20 -> 1 | Q6: =密封条几何!F21 -> 1 | R6: =密封条几何!F22 -> 1 | S6: =密封条几何!F23 -> 1 | T6: =密封条几何!F24 -> 1 | U6: =密封条几何!F25 -> 1 | V6: =密封条几何!F26 -> 1 | W6: =密封条几何!F27 -> 1 | X6: =密封条几何!F28 -> 1 | Y6: =密封条几何!F29 -> 1 | Z6: =密封条几何!F30 -> 1 | AA6: =密封条几何!F31 -> 1 | AB6: =密封条几何!F32 -> 1 | AC6: =密封条几何!F33 -> 1 | AD6: =密封条几何!F34 -> 1 | AE6: =密封条几何!F35 -> 1 | AF6: =密封条几何!F36 -> 1 | AG6: =密封条几何!F37 -> 1 | AH6: =密封条几何!F38 -> 1 | AI6: =密封条几何!F39 -> 1 | AJ6: =密封条几何!F40 -> 1 | AK6: =密封条几何!F41 -> 1 | AL6: =密封条几何!F42 -> 1 | AM6: =密封条几何!F43 -> 1 | AN6: =密封条几何!F44 -> 1 | AO6: =密封条几何!F45 -> 0 | AP6: =密封条几何!F46 -> 0 | AQ6: =密封条几何!F47 -> 0 | AR6: =密封条几何!F48 -> 0 | AS6: =密封条几何!F49 -> 0 | AT6: =密封条几何!F50 -> 0 | AU6: =密封条几何!F51 -> 0 | AV6: =密封条几何!F52 -> 0 | AW6: =密封条几何!F53 -> 0 | AX6: =密封条几何!F54 -> 0 | AY6: =密封条几何!F55 -> 0 | AZ6: =密封条几何!F56 -> 0 | BA6: =密封条几何!F57 -> 0 | BB6: =密封条几何!F58 -> 0 | BC6: =密封条几何!F59 -> 0 | BD6: =密封条几何!F60 -> 0 | BE6: =密封条几何!F61 -> 0 | BF6: =密封条几何!F62 -> 0 | BG6: =密封条几何!F63 -> 0 | BH6: =密封条几何!F64 -> 0 | BI6: =密封条几何!F65 -> 0 | BJ6: =密封条几何!F66 -> 0 | BK6: =密封条几何!F67 -> 0 | BL6: =密封条几何!F68 -> 0 | BM6: =密封条几何!F69 -> 0 | BN6: =密封条几何!F70 -> 0 | BO6: =密封条几何!F71 -> 0 | BP6: =密封条几何!F72 -> 0 | BQ6: =密封条几何!F73 -> 0 | BR6: =密封条几何!F74 -> 0 | BS6: =密封条几何!F75 -> 0 | BT6: =密封条几何!F76 -> 0 | BU6: =密封条几何!F77 -> 0 | BV6: =密封条几何!F78 -> 0 | BW6: =密封条几何!F79 -> 0 | BX6: =密封条几何!F80 -> 0 | BY6: =密封条几何!F81 -> 0 | BZ6: =密封条几何!F82 -> 0 | CA6: =密封条几何!F83 -> 0 | CB6: =密封条几何!F84 -> 0 | CC6: =密封条几何!F85 -> 0 | CD6: =密封条几何!F86 -> 0 | CE6: =密封条几何!F87 -> 0 | CF6: =密封条几何!F88 -> 0 | CG6: =密封条几何!F89 -> 0 | CH6: =密封条几何!F90 -> 0 | CI6: =密封条几何!F91 -> 0 | CJ6: =密封条几何!F92 -> 0 | CK6: =密封条几何!F93 -> 0 | CL6: =密封条几何!F94 -> 0 | CM6: =密封条几何!F95 -> 0 | CN6: =密封条几何!F96 -> 0 | CO6: =密封条几何!F97 -> 0 | CP6: =密封条几何!F98 -> 0 | CQ6: =密封条几何!F99 -> 0 | CR6: =密封条几何!F100 -> 0 | CS6: =密封条几何!F101 -> 0 | CT6: =密封条几何!F102 -> 0 | CU6: =密封条几何!F103 -> 0 | CV6: =密封条几何!F104 -> 0
A7: =密封条几何!I5 -> 0 | B7: =密封条几何!I6 -> 0 | C7: =密封条几何!I7 -> 0 | D7: =密封条几何!I8 -> 0 | E7: =密封条几何!I9 -> 0 | F7: =密封条几何!I10 -> 0 | G7: =密封条几何!I11 -> 0 | H7: =密封条几何!I12 -> 0 | I7: =密封条几何!I13 -> 0 | J7: =密封条几何!I14 -> 0 | K7: =密封条几何!I15 -> 0 | L7: =密封条几何!I16 -> 0 | M7: =密封条几何!I17 -> 0 | N7: =密封条几何!I18 -> 0 | O7: =密封条几何!I19 -> 0 | P7: =密封条几何!I20 -> 0 | Q7: =密封条几何!I21 -> 0 | R7: =密封条几何!I22 -> 0 | S7: =密封条几何!I23 -> 0 | T7: =密封条几何!I24 -> 0 | U7: =密封条几何!I25 -> 0 | V7: =密封条几何!I26 -> 0 | W7: =密封条几何!I27 -> 0 | X7: =密封条几何!I28 -> 0 | Y7: =密封条几何!I29 -> 0 | Z7: =密封条几何!I30 -> 0 | AA7: =密封条几何!I31 -> 0 | AB7: =密封条几何!I32 -> 0 | AC7: =密封条几何!I33 -> 0 | AD7: =密封条几何!I34 -> 0 | AE7: =密封条几何!I35 -> 0 | AF7: =密封条几何!I36 -> 0 | AG7: =密封条几何!I37 -> 0 | AH7: =密封条几何!I38 -> 0 | AI7: =密封条几何!I39 -> 0 | AJ7: =密封条几何!I40 -> 0 | AK7: =密封条几何!I41 -> 0 | AL7: =密封条几何!I42 -> 0 | AM7: =密封条几何!I43 -> 0 | AN7: =密封条几何!I44 -> 0 | AO7: =密封条几何!I45 -> 0 | AP7: =密封条几何!I46 -> 0 | AQ7: =密封条几何!I47 -> 0 | AR7: =密封条几何!I48 -> 0 | AS7: =密封条几何!I49 -> 0 | AT7: =密封条几何!I50 -> 0 | AU7: =密封条几何!I51 -> 0 | AV7: =密封条几何!I52 -> 0 | AW7: =密封条几何!I53 -> 0 | AX7: =密封条几何!I54 -> 0 | AY7: =密封条几何!I55 -> 0 | AZ7: =密封条几何!I56 -> 0 | BA7: =密封条几何!I57 -> 0 | BB7: =密封条几何!I58 -> 0 | BC7: =密封条几何!I59 -> 0 | BD7: =密封条几何!I60 -> 0 | BE7: =密封条几何!I61 -> 0 | BF7: =密封条几何!I62 -> 0 | BG7: =密封条几何!I63 -> 0 | BH7: =密封条几何!I64 -> 0 | BI7: =密封条几何!I65 -> 0 | BJ7: =密封条几何!I66 -> 0 | BK7: =密封条几何!I67 -> 0 | BL7: =密封条几何!I68 -> 0 | BM7: =密封条几何!I69 -> 0 | BN7: =密封条几何!I70 -> 0 | BO7: =密封条几何!I71 -> 0 | BP7: =密封条几何!I72 -> 0 | BQ7: =密封条几何!I73 -> 0 | BR7: =密封条几何!I74 -> 0 | BS7: =密封条几何!I75 -> 0 | BT7: =密封条几何!I76 -> 0 | BU7: =密封条几何!I77 -> 0 | BV7: =密封条几何!I78 -> 0 | BW7: =密封条几何!I79 -> 0 | BX7: =密封条几何!I80 -> 0 | BY7: =密封条几何!I81 -> 0 | BZ7: =密封条几何!I82 -> 0 | CA7: =密封条几何!I83 -> 0 | CB7: =密封条几何!I84 -> 0 | CC7: =密封条几何!I85 -> 0 | CD7: =密封条几何!I86 -> 0 | CE7: =密封条几何!I87 -> 0 | CF7: =密封条几何!I88 -> 0 | CG7: =密封条几何!I89 -> 0 | CH7: =密封条几何!I90 -> 0 | CI7: =密封条几何!I91 -> 0 | CJ7: =密封条几何!I92 -> 0 | CK7: =密封条几何!I93 -> 0 | CL7: =密封条几何!I94 -> 0 | CM7: =密封条几何!I95 -> 0 | CN7: =密封条几何!I96 -> 0 | CO7: =密封条几何!I97 -> 0 | CP7: =密封条几何!I98 -> 0 | CQ7: =密封条几何!I99 -> 0 | CR7: =密封条几何!I100 -> 0 | CS7: =密封条几何!I101 -> 0 | CT7: =密封条几何!I102 -> 0 | CU7: =密封条几何!I103 -> 0 | CV7: =密封条几何!I104 -> 0
A8: =密封条几何!J5 -> 0 | B8: =密封条几何!J6 -> 0 | C8: =密封条几何!J7 -> 0 | D8: =密封条几何!J8 -> 0 | E8: =密封条几何!J9 -> 0 | F8: =密封条几何!J10 -> 0 | G8: =密封条几何!J11 -> 0 | H8: =密封条几何!J12 -> 0 | I8: =密封条几何!J13 -> 0 | J8: =密封条几何!J14 -> 0 | K8: =密封条几何!J15 -> 0 | L8: =密封条几何!J16 -> 0 | M8: =密封条几何!J17 -> 0 | N8: =密封条几何!J18 -> 0 | O8: =密封条几何!J19 -> 0 | P8: =密封条几何!J20 -> 0 | Q8: =密封条几何!J21 -> 0 | R8: =密封条几何!J22 -> 0 | S8: =密封条几何!J23 -> 0 | T8: =密封条几何!J24 -> 0 | U8: =密封条几何!J25 -> 0 | V8: =密封条几何!J26 -> 0 | W8: =密封条几何!J27 -> 0 | X8: =密封条几何!J28 -> 0 | Y8: =密封条几何!J29 -> 0 | Z8: =密封条几何!J30 -> 0 | AA8: =密封条几何!J31 -> 0 | AB8: =密封条几何!J32 -> 0 | AC8: =密封条几何!J33 -> 0 | AD8: =密封条几何!J34 -> 0 | AE8: =密封条几何!J35 -> 0 | AF8: =密封条几何!J36 -> 0 | AG8: =密封条几何!J37 -> 0 | AH8: =密封条几何!J38 -> 0 | AI8: =密封条几何!J39 -> 0 | AJ8: =密封条几何!J40 -> 0 | AK8: =密封条几何!J41 -> 0 | AL8: =密封条几何!J42 -> 0 | AM8: =密封条几何!J43 -> 0 | AN8: =密封条几何!J44 -> 0 | AO8: =密封条几何!J45 -> 0 | AP8: =密封条几何!J46 -> 0 | AQ8: =密封条几何!J47 -> 0 | AR8: =密封条几何!J48 -> 0 | AS8: =密封条几何!J49 -> 0 | AT8: =密封条几何!J50 -> 0 | AU8: =密封条几何!J51 -> 0 | AV8: =密封条几何!J52 -> 0 | AW8: =密封条几何!J53 -> 0 | AX8: =密封条几何!J54 -> 0 | AY8: =密封条几何!J55 -> 0 | AZ8: =密封条几何!J56 -> 0 | BA8: =密封条几何!J57 -> 0 | BB8: =密封条几何!J58 -> 0 | BC8: =密封条几何!J59 -> 0 | BD8: =密封条几何!J60 -> 0 | BE8: =密封条几何!J61 -> 0 | BF8: =密封条几何!J62 -> 0 | BG8: =密封条几何!J63 -> 0 | BH8: =密封条几何!J64 -> 0 | BI8: =密封条几何!J65 -> 0 | BJ8: =密封条几何!J66 -> 0 | BK8: =密封条几何!J67 -> 0 | BL8: =密封条几何!J68 -> 0 | BM8: =密封条几何!J69 -> 0 | BN8: =密封条几何!J70 -> 0 | BO8: =密封条几何!J71 -> 0 | BP8: =密封条几何!J72 -> 0 | BQ8: =密封条几何!J73 -> 0 | BR8: =密封条几何!J74 -> 0 | BS8: =密封条几何!J75 -> 0 | BT8: =密封条几何!J76 -> 0 | BU8: =密封条几何!J77 -> 0 | BV8: =密封条几何!J78 -> 0 | BW8: =密封条几何!J79 -> 0 | BX8: =密封条几何!J80 -> 0 | BY8: =密封条几何!J81 -> 0 | BZ8: =密封条几何!J82 -> 0 | CA8: =密封条几何!J83 -> 0 | CB8: =密封条几何!J84 -> 0 | CC8: =密封条几何!J85 -> 0 | CD8: =密封条几何!J86 -> 0 | CE8: =密封条几何!J87 -> 0 | CF8: =密封条几何!J88 -> 0 | CG8: =密封条几何!J89 -> 0 | CH8: =密封条几何!J90 -> 0 | CI8: =密封条几何!J91 -> 0 | CJ8: =密封条几何!J92 -> 0 | CK8: =密封条几何!J93 -> 0 | CL8: =密封条几何!J94 -> 0 | CM8: =密封条几何!J95 -> 0 | CN8: =密封条几何!J96 -> 0 | CO8: =密封条几何!J97 -> 0 | CP8: =密封条几何!J98 -> 0 | CQ8: =密封条几何!J99 -> 0 | CR8: =密封条几何!J100 -> 0 | CS8: =密封条几何!J101 -> 0 | CT8: =密封条几何!J102 -> 0 | CU8: =密封条几何!J103 -> 0 | CV8: =密封条几何!J104 -> 0
A9: =密封条几何!K5 -> 0 | B9: =密封条几何!K6 -> 0 | C9: =密封条几何!K7 -> 0 | D9: =密封条几何!K8 -> 0 | E9: =密封条几何!K9 -> 0 | F9: =密封条几何!K10 -> 0 | G9: =密封条几何!K11 -> 0 | H9: =密封条几何!K12 -> 0 | I9: =密封条几何!K13 -> 0 | J9: =密封条几何!K14 -> 0 | K9: =密封条几何!K15 -> 0 | L9: =密封条几何!K16 -> 0 | M9: =密封条几何!K17 -> 0 | N9: =密封条几何!K18 -> 0 | O9: =密封条几何!K19 -> 0 | P9: =密封条几何!K20 -> 0 | Q9: =密封条几何!K21 -> 0 | R9: =密封条几何!K22 -> 0 | S9: =密封条几何!K23 -> 0 | T9: =密封条几何!K24 -> 0 | U9: =密封条几何!K25 -> 0 | V9: =密封条几何!K26 -> 0 | W9: =密封条几何!K27 -> 0 | X9: =密封条几何!K28 -> 0 | Y9: =密封条几何!K29 -> 0 | Z9: =密封条几何!K30 -> 0 | AA9: =密封条几何!K31 -> 0 | AB9: =密封条几何!K32 -> 0 | AC9: =密封条几何!K33 -> 0 | AD9: =密封条几何!K34 -> 0 | AE9: =密封条几何!K35 -> 0 | AF9: =密封条几何!K36 -> 0 | AG9: =密封条几何!K37 -> 0 | AH9: =密封条几何!K38 -> 0 | AI9: =密封条几何!K39 -> 0 | AJ9: =密封条几何!K40 -> 0 | AK9: =密封条几何!K41 -> 0 | AL9: =密封条几何!K42 -> 0 | AM9: =密封条几何!K43 -> 0 | AN9: =密封条几何!K44 -> 0 | AO9: =密封条几何!K45 -> 0 | AP9: =密封条几何!K46 -> 0 | AQ9: =密封条几何!K47 -> 0 | AR9: =密封条几何!K48 -> 0 | AS9: =密封条几何!K49 -> 0 | AT9: =密封条几何!K50 -> 0 | AU9: =密封条几何!K51 -> 0 | AV9: =密封条几何!K52 -> 0 | AW9: =密封条几何!K53 -> 0 | AX9: =密封条几何!K54 -> 0 | AY9: =密封条几何!K55 -> 0 | AZ9: =密封条几何!K56 -> 0 | BA9: =密封条几何!K57 -> 0 | BB9: =密封条几何!K58 -> 0 | BC9: =密封条几何!K59 -> 0 | BD9: =密封条几何!K60 -> 0 | BE9: =密封条几何!K61 -> 0 | BF9: =密封条几何!K62 -> 0 | BG9: =密封条几何!K63 -> 0 | BH9: =密封条几何!K64 -> 0 | BI9: =密封条几何!K65 -> 0 | BJ9: =密封条几何!K66 -> 0 | BK9: =密封条几何!K67 -> 0 | BL9: =密封条几何!K68 -> 0 | BM9: =密封条几何!K69 -> 0 | BN9: =密封条几何!K70 -> 0 | BO9: =密封条几何!K71 -> 0 | BP9: =密封条几何!K72 -> 0 | BQ9: =密封条几何!K73 -> 0 | BR9: =密封条几何!K74 -> 0 | BS9: =密封条几何!K75 -> 0 | BT9: =密封条几何!K76 -> 0 | BU9: =密封条几何!K77 -> 0 | BV9: =密封条几何!K78 -> 0 | BW9: =密封条几何!K79 -> 0 | BX9: =密封条几何!K80 -> 0 | BY9: =密封条几何!K81 -> 0 | BZ9: =密封条几何!K82 -> 0 | CA9: =密封条几何!K83 -> 0 | CB9: =密封条几何!K84 -> 0 | CC9: =密封条几何!K85 -> 0 | CD9: =密封条几何!K86 -> 0 | CE9: =密封条几何!K87 -> 0 | CF9: =密封条几何!K88 -> 0 | CG9: =密封条几何!K89 -> 0 | CH9: =密封条几何!K90 -> 0 | CI9: =密封条几何!K91 -> 0 | CJ9: =密封条几何!K92 -> 0 | CK9: =密封条几何!K93 -> 0 | CL9: =密封条几何!K94 -> 0 | CM9: =密封条几何!K95 -> 0 | CN9: =密封条几何!K96 -> 0 | CO9: =密封条几何!K97 -> 0 | CP9: =密封条几何!K98 -> 0 | CQ9: =密封条几何!K99 -> 0 | CR9: =密封条几何!K100 -> 0 | CS9: =密封条几何!K101 -> 0 | CT9: =密封条几何!K102 -> 0 | CU9: =密封条几何!K103 -> 0 | CV9: =密封条几何!K104 -> 0
A10: =密封条几何!L5 -> 0 | B10: =密封条几何!L6 -> 0 | C10: =密封条几何!L7 -> 0 | D10: =密封条几何!L8 -> 0 | E10: =密封条几何!L9 -> 0 | F10: =密封条几何!L10 -> 0 | G10: =密封条几何!L11 -> 0 | H10: =密封条几何!L12 -> 0 | I10: =密封条几何!L13 -> 0 | J10: =密封条几何!L14 -> 0 | K10: =密封条几何!L15 -> 0 | L10: =密封条几何!L16 -> 0 | M10: =密封条几何!L17 -> 0 | N10: =密封条几何!L18 -> 0 | O10: =密封条几何!L19 -> 0 | P10: =密封条几何!L20 -> 0 | Q10: =密封条几何!L21 -> 0 | R10: =密封条几何!L22 -> 0 | S10: =密封条几何!L23 -> 0 | T10: =密封条几何!L24 -> 0 | U10: =密封条几何!L25 -> 0 | V10: =密封条几何!L26 -> 0 | W10: =密封条几何!L27 -> 0 | X10: =密封条几何!L28 -> 0 | Y10: =密封条几何!L29 -> 0 | Z10: =密封条几何!L30 -> 0 | AA10: =密封条几何!L31 -> 0 | AB10: =密封条几何!L32 -> 0 | AC10: =密封条几何!L33 -> 0 | AD10: =密封条几何!L34 -> 0 | AE10: =密封条几何!L35 -> 0 | AF10: =密封条几何!L36 -> 0 | AG10: =密封条几何!L37 -> 0 | AH10: =密封条几何!L38 -> 0 | AI10: =密封条几何!L39 -> 0 | AJ10: =密封条几何!L40 -> 0 | AK10: =密封条几何!L41 -> 0 | AL10: =密封条几何!L42 -> 0 | AM10: =密封条几何!L43 -> 0 | AN10: =密封条几何!L44 -> 0 | AO10: =密封条几何!L45 -> 0 | AP10: =密封条几何!L46 -> 0 | AQ10: =密封条几何!L47 -> 0 | AR10: =密封条几何!L48 -> 0 | AS10: =密封条几何!L49 -> 0 | AT10: =密封条几何!L50 -> 0 | AU10: =密封条几何!L51 -> 0 | AV10: =密封条几何!L52 -> 0 | AW10: =密封条几何!L53 -> 0 | AX10: =密封条几何!L54 -> 0 | AY10: =密封条几何!L55 -> 0 | AZ10: =密封条几何!L56 -> 0 | BA10: =密封条几何!L57 -> 0 | BB10: =密封条几何!L58 -> 0 | BC10: =密封条几何!L59 -> 0 | BD10: =密封条几何!L60 -> 0 | BE10: =密封条几何!L61 -> 0 | BF10: =密封条几何!L62 -> 0 | BG10: =密封条几何!L63 -> 0 | BH10: =密封条几何!L64 -> 0 | BI10: =密封条几何!L65 -> 0 | BJ10: =密封条几何!L66 -> 0 | BK10: =密封条几何!L67 -> 0 | BL10: =密封条几何!L68 -> 0 | BM10: =密封条几何!L69 -> 0 | BN10: =密封条几何!L70 -> 0 | BO10: =密封条几何!L71 -> 0 | BP10: =密封条几何!L72 -> 0 | BQ10: =密封条几何!L73 -> 0 | BR10: =密封条几何!L74 -> 0 | BS10: =密封条几何!L75 -> 0 | BT10: =密封条几何!L76 -> 0 | BU10: =密封条几何!L77 -> 0 | BV10: =密封条几何!L78 -> 0 | BW10: =密封条几何!L79 -> 0 | BX10: =密封条几何!L80 -> 0 | BY10: =密封条几何!L81 -> 0 | BZ10: =密封条几何!L82 -> 0 | CA10: =密封条几何!L83 -> 0 | CB10: =密封条几何!L84 -> 0 | CC10: =密封条几何!L85 -> 0 | CD10: =密封条几何!L86 -> 0 | CE10: =密封条几何!L87 -> 0 | CF10: =密封条几何!L88 -> 0 | CG10: =密封条几何!L89 -> 0 | CH10: =密封条几何!L90 -> 0 | CI10: =密封条几何!L91 -> 0 | CJ10: =密封条几何!L92 -> 0 | CK10: =密封条几何!L93 -> 0 | CL10: =密封条几何!L94 -> 0 | CM10: =密封条几何!L95 -> 0 | CN10: =密封条几何!L96 -> 0 | CO10: =密封条几何!L97 -> 0 | CP10: =密封条几何!L98 -> 0 | CQ10: =密封条几何!L99 -> 0 | CR10: =密封条几何!L100 -> 0 | CS10: =密封条几何!L101 -> 0 | CT10: =密封条几何!L102 -> 0 | CU10: =密封条几何!L103 -> 0 | CV10: =密封条几何!L104 -> 0
A11: =密封条几何!M5 -> 0 | B11: =密封条几何!M6 -> 0 | C11: =密封条几何!M7 -> 0 | D11: =密封条几何!M8 -> 0 | E11: =密封条几何!M9 -> 0 | F11: =密封条几何!M10 -> 0 | G11: =密封条几何!M11 -> 0 | H11: =密封条几何!M12 -> 0 | I11: =密封条几何!M13 -> 0 | J11: =密封条几何!M14 -> 0 | K11: =密封条几何!M15 -> 0 | L11: =密封条几何!M16 -> 0 | M11: =密封条几何!M17 -> 0 | N11: =密封条几何!M18 -> 0 | O11: =密封条几何!M19 -> 0 | P11: =密封条几何!M20 -> 0 | Q11: =密封条几何!M21 -> 0 | R11: =密封条几何!M22 -> 0 | S11: =密封条几何!M23 -> 0 | T11: =密封条几何!M24 -> 0 | U11: =密封条几何!M25 -> 0 | V11: =密封条几何!M26 -> 0 | W11: =密封条几何!M27 -> 0 | X11: =密封条几何!M28 -> 0 | Y11: =密封条几何!M29 -> 0 | Z11: =密封条几何!M30 -> 0 | AA11: =密封条几何!M31 -> 0 | AB11: =密封条几何!M32 -> 0 | AC11: =密封条几何!M33 -> 0 | AD11: =密封条几何!M34 -> 0 | AE11: =密封条几何!M35 -> 0 | AF11: =密封条几何!M36 -> 0 | AG11: =密封条几何!M37 -> 0 | AH11: =密封条几何!M38 -> 0 | AI11: =密封条几何!M39 -> 0 | AJ11: =密封条几何!M40 -> 0 | AK11: =密封条几何!M41 -> 0 | AL11: =密封条几何!M42 -> 0 | AM11: =密封条几何!M43 -> 0 | AN11: =密封条几何!M44 -> 0 | AO11: =密封条几何!M45 -> 0 | AP11: =密封条几何!M46 -> 0 | AQ11: =密封条几何!M47 -> 0 | AR11: =密封条几何!M48 -> 0 | AS11: =密封条几何!M49 -> 0 | AT11: =密封条几何!M50 -> 0 | AU11: =密封条几何!M51 -> 0 | AV11: =密封条几何!M52 -> 0 | AW11: =密封条几何!M53 -> 0 | AX11: =密封条几何!M54 -> 0 | AY11: =密封条几何!M55 -> 0 | AZ11: =密封条几何!M56 -> 0 | BA11: =密封条几何!M57 -> 0 | BB11: =密封条几何!M58 -> 0 | BC11: =密封条几何!M59 -> 0 | BD11: =密封条几何!M60 -> 0 | BE11: =密封条几何!M61 -> 0 | BF11: =密封条几何!M62 -> 0 | BG11: =密封条几何!M63 -> 0 | BH11: =密封条几何!M64 -> 0 | BI11: =密封条几何!M65 -> 0 | BJ11: =密封条几何!M66 -> 0 | BK11: =密封条几何!M67 -> 0 | BL11: =密封条几何!M68 -> 0 | BM11: =密封条几何!M69 -> 0 | BN11: =密封条几何!M70 -> 0 | BO11: =密封条几何!M71 -> 0 | BP11: =密封条几何!M72 -> 0 | BQ11: =密封条几何!M73 -> 0 | BR11: =密封条几何!M74 -> 0 | BS11: =密封条几何!M75 -> 0 | BT11: =密封条几何!M76 -> 0 | BU11: =密封条几何!M77 -> 0 | BV11: =密封条几何!M78 -> 0 | BW11: =密封条几何!M79 -> 0 | BX11: =密封条几何!M80 -> 0 | BY11: =密封条几何!M81 -> 0 | BZ11: =密封条几何!M82 -> 0 | CA11: =密封条几何!M83 -> 0 | CB11: =密封条几何!M84 -> 0 | CC11: =密封条几何!M85 -> 0 | CD11: =密封条几何!M86 -> 0 | CE11: =密封条几何!M87 -> 0 | CF11: =密封条几何!M88 -> 0 | CG11: =密封条几何!M89 -> 0 | CH11: =密封条几何!M90 -> 0 | CI11: =密封条几何!M91 -> 0 | CJ11: =密封条几何!M92 -> 0 | CK11: =密封条几何!M93 -> 0 | CL11: =密封条几何!M94 -> 0 | CM11: =密封条几何!M95 -> 0 | CN11: =密封条几何!M96 -> 0 | CO11: =密封条几何!M97 -> 0 | CP11: =密封条几何!M98 -> 0 | CQ11: =密封条几何!M99 -> 0 | CR11: =密封条几何!M100 -> 0 | CS11: =密封条几何!M101 -> 0 | CT11: =密封条几何!M102 -> 0 | CU11: =密封条几何!M103 -> 0 | CV11: =密封条几何!M104 -> 0
A12: =密封条几何!P5 -> 0 | B12: =密封条几何!P6 -> 0 | C12: =密封条几何!P7 -> 0 | D12: =密封条几何!P8 -> 0 | E12: =密封条几何!P9 -> 0 | F12: =密封条几何!P10 -> 0 | G12: =密封条几何!P11 -> 0 | H12: =密封条几何!P12 -> 0 | I12: =密封条几何!P13 -> 0 | J12: =密封条几何!P14 -> 0 | K12: =密封条几何!P15 -> 0 | L12: =密封条几何!P16 -> 0 | M12: =密封条几何!P17 -> 0 | N12: =密封条几何!P18 -> 0 | O12: =密封条几何!P19 -> 0 | P12: =密封条几何!P20 -> 0 | Q12: =密封条几何!P21 -> 0 | R12: =密封条几何!P22 -> 0 | S12: =密封条几何!P23 -> 0 | T12: =密封条几何!P24 -> 0 | U12: =密封条几何!P25 -> 0 | V12: =密封条几何!P26 -> 0 | W12: =密封条几何!P27 -> 0 | X12: =密封条几何!P28 -> 0 | Y12: =密封条几何!P29 -> 0 | Z12: =密封条几何!P30 -> 0 | AA12: =密封条几何!P31 -> 0 | AB12: =密封条几何!P32 -> 0 | AC12: =密封条几何!P33 -> 0 | AD12: =密封条几何!P34 -> 0 | AE12: =密封条几何!P35 -> 0 | AF12: =密封条几何!P36 -> 0 | AG12: =密封条几何!P37 -> 0 | AH12: =密封条几何!P38 -> 0 | AI12: =密封条几何!P39 -> 0 | AJ12: =密封条几何!P40 -> 0 | AK12: =密封条几何!P41 -> 0 | AL12: =密封条几何!P42 -> 0 | AM12: =密封条几何!P43 -> 0 | AN12: =密封条几何!P44 -> 0 | AO12: =密封条几何!P45 -> 0 | AP12: =密封条几何!P46 -> 0 | AQ12: =密封条几何!P47 -> 0 | AR12: =密封条几何!P48 -> 0 | AS12: =密封条几何!P49 -> 0 | AT12: =密封条几何!P50 -> 0 | AU12: =密封条几何!P51 -> 0 | AV12: =密封条几何!P52 -> 0 | AW12: =密封条几何!P53 -> 0 | AX12: =密封条几何!P54 -> 0 | AY12: =密封条几何!P55 -> 0 | AZ12: =密封条几何!P56 -> 0 | BA12: =密封条几何!P57 -> 0 | BB12: =密封条几何!P58 -> 0 | BC12: =密封条几何!P59 -> 0 | BD12: =密封条几何!P60 -> 0 | BE12: =密封条几何!P61 -> 0 | BF12: =密封条几何!P62 -> 0 | BG12: =密封条几何!P63 -> 0 | BH12: =密封条几何!P64 -> 0 | BI12: =密封条几何!P65 -> 0 | BJ12: =密封条几何!P66 -> 0 | BK12: =密封条几何!P67 -> 0 | BL12: =密封条几何!P68 -> 0 | BM12: =密封条几何!P69 -> 0 | BN12: =密封条几何!P70 -> 0 | BO12: =密封条几何!P71 -> 0 | BP12: =密封条几何!P72 -> 0 | BQ12: =密封条几何!P73 -> 0 | BR12: =密封条几何!P74 -> 0 | BS12: =密封条几何!P75 -> 0 | BT12: =密封条几何!P76 -> 0 | BU12: =密封条几何!P77 -> 0 | BV12: =密封条几何!P78 -> 0 | BW12: =密封条几何!P79 -> 0 | BX12: =密封条几何!P80 -> 0 | BY12: =密封条几何!P81 -> 0 | BZ12: =密封条几何!P82 -> 0 | CA12: =密封条几何!P83 -> 0 | CB12: =密封条几何!P84 -> 0 | CC12: =密封条几何!P85 -> 0 | CD12: =密封条几何!P86 -> 0 | CE12: =密封条几何!P87 -> 0 | CF12: =密封条几何!P88 -> 0 | CG12: =密封条几何!P89 -> 0 | CH12: =密封条几何!P90 -> 0 | CI12: =密封条几何!P91 -> 0 | CJ12: =密封条几何!P92 -> 0 | CK12: =密封条几何!P93 -> 0 | CL12: =密封条几何!P94 -> 0 | CM12: =密封条几何!P95 -> 0 | CN12: =密封条几何!P96 -> 0 | CO12: =密封条几何!P97 -> 0 | CP12: =密封条几何!P98 -> 0 | CQ12: =密封条几何!P99 -> 0 | CR12: =密封条几何!P100 -> 0 | CS12: =密封条几何!P101 -> 0 | CT12: =密封条几何!P102 -> 0 | CU12: =密封条几何!P103 -> 0 | CV12: =密封条几何!P104 -> 0
A13: =密封条几何!Q5 -> 0 | B13: =密封条几何!Q6 -> 0 | C13: =密封条几何!Q7 -> 0 | D13: =密封条几何!Q8 -> 0 | E13: =密封条几何!Q9 -> 0 | F13: =密封条几何!Q10 -> 0 | G13: =密封条几何!Q11 -> 0 | H13: =密封条几何!Q12 -> 0 | I13: =密封条几何!Q13 -> 0 | J13: =密封条几何!Q14 -> 0 | K13: =密封条几何!Q15 -> 0 | L13: =密封条几何!Q16 -> 0 | M13: =密封条几何!Q17 -> 0 | N13: =密封条几何!Q18 -> 0 | O13: =密封条几何!Q19 -> 0 | P13: =密封条几何!Q20 -> 0 | Q13: =密封条几何!Q21 -> 0 | R13: =密封条几何!Q22 -> 0 | S13: =密封条几何!Q23 -> 0 | T13: =密封条几何!Q24 -> 0 | U13: =密封条几何!Q25 -> 0 | V13: =密封条几何!Q26 -> 0 | W13: =密封条几何!Q27 -> 0 | X13: =密封条几何!Q28 -> 0 | Y13: =密封条几何!Q29 -> 0 | Z13: =密封条几何!Q30 -> 0 | AA13: =密封条几何!Q31 -> 0 | AB13: =密封条几何!Q32 -> 0 | AC13: =密封条几何!Q33 -> 0 | AD13: =密封条几何!Q34 -> 0 | AE13: =密封条几何!Q35 -> 0 | AF13: =密封条几何!Q36 -> 0 | AG13: =密封条几何!Q37 -> 0 | AH13: =密封条几何!Q38 -> 0 | AI13: =密封条几何!Q39 -> 0 | AJ13: =密封条几何!Q40 -> 0 | AK13: =密封条几何!Q41 -> 0 | AL13: =密封条几何!Q42 -> 0 | AM13: =密封条几何!Q43 -> 0 | AN13: =密封条几何!Q44 -> 0 | AO13: =密封条几何!Q45 -> 0 | AP13: =密封条几何!Q46 -> 0 | AQ13: =密封条几何!Q47 -> 0 | AR13: =密封条几何!Q48 -> 0 | AS13: =密封条几何!Q49 -> 0 | AT13: =密封条几何!Q50 -> 0 | AU13: =密封条几何!Q51 -> 0 | AV13: =密封条几何!Q52 -> 0 | AW13: =密封条几何!Q53 -> 0 | AX13: =密封条几何!Q54 -> 0 | AY13: =密封条几何!Q55 -> 0 | AZ13: =密封条几何!Q56 -> 0 | BA13: =密封条几何!Q57 -> 0 | BB13: =密封条几何!Q58 -> 0 | BC13: =密封条几何!Q59 -> 0 | BD13: =密封条几何!Q60 -> 0 | BE13: =密封条几何!Q61 -> 0 | BF13: =密封条几何!Q62 -> 0 | BG13: =密封条几何!Q63 -> 0 | BH13: =密封条几何!Q64 -> 0 | BI13: =密封条几何!Q65 -> 0 | BJ13: =密封条几何!Q66 -> 0 | BK13: =密封条几何!Q67 -> 0 | BL13: =密封条几何!Q68 -> 0 | BM13: =密封条几何!Q69 -> 0 | BN13: =密封条几何!Q70 -> 0 | BO13: =密封条几何!Q71 -> 0 | BP13: =密封条几何!Q72 -> 0 | BQ13: =密封条几何!Q73 -> 0 | BR13: =密封条几何!Q74 -> 0 | BS13: =密封条几何!Q75 -> 0 | BT13: =密封条几何!Q76 -> 0 | BU13: =密封条几何!Q77 -> 0 | BV13: =密封条几何!Q78 -> 0 | BW13: =密封条几何!Q79 -> 0 | BX13: =密封条几何!Q80 -> 0 | BY13: =密封条几何!Q81 -> 0 | BZ13: =密封条几何!Q82 -> 0 | CA13: =密封条几何!Q83 -> 0 | CB13: =密封条几何!Q84 -> 0 | CC13: =密封条几何!Q85 -> 0 | CD13: =密封条几何!Q86 -> 0 | CE13: =密封条几何!Q87 -> 0 | CF13: =密封条几何!Q88 -> 0 | CG13: =密封条几何!Q89 -> 0 | CH13: =密封条几何!Q90 -> 0 | CI13: =密封条几何!Q91 -> 0 | CJ13: =密封条几何!Q92 -> 0 | CK13: =密封条几何!Q93 -> 0 | CL13: =密封条几何!Q94 -> 0 | CM13: =密封条几何!Q95 -> 0 | CN13: =密封条几何!Q96 -> 0 | CO13: =密封条几何!Q97 -> 0 | CP13: =密封条几何!Q98 -> 0 | CQ13: =密封条几何!Q99 -> 0 | CR13: =密封条几何!Q100 -> 0 | CS13: =密封条几何!Q101 -> 0 | CT13: =密封条几何!Q102 -> 0 | CU13: =密封条几何!Q103 -> 0 | CV13: =密封条几何!Q104 -> 0
A14: =密封条几何!R5 -> 0 | B14: =密封条几何!R6 -> 0 | C14: =密封条几何!R7 -> 0 | D14: =密封条几何!R8 -> 0 | E14: =密封条几何!R9 -> 0 | F14: =密封条几何!R10 -> 0 | G14: =密封条几何!R11 -> 0 | H14: =密封条几何!R12 -> 0 | I14: =密封条几何!R13 -> 0 | J14: =密封条几何!R14 -> 0 | K14: =密封条几何!R15 -> 0 | L14: =密封条几何!R16 -> 0 | M14: =密封条几何!R17 -> 0 | N14: =密封条几何!R18 -> 0 | O14: =密封条几何!R19 -> 0 | P14: =密封条几何!R20 -> 0 | Q14: =密封条几何!R21 -> 0 | R14: =密封条几何!R22 -> 0 | S14: =密封条几何!R23 -> 0 | T14: =密封条几何!R24 -> 0 | U14: =密封条几何!R25 -> 0 | V14: =密封条几何!R26 -> 0 | W14: =密封条几何!R27 -> 0 | X14: =密封条几何!R28 -> 0 | Y14: =密封条几何!R29 -> 0 | Z14: =密封条几何!R30 -> 0 | AA14: =密封条几何!R31 -> 0 | AB14: =密封条几何!R32 -> 0 | AC14: =密封条几何!R33 -> 0 | AD14: =密封条几何!R34 -> 0 | AE14: =密封条几何!R35 -> 0 | AF14: =密封条几何!R36 -> 0 | AG14: =密封条几何!R37 -> 0 | AH14: =密封条几何!R38 -> 0 | AI14: =密封条几何!R39 -> 0 | AJ14: =密封条几何!R40 -> 0 | AK14: =密封条几何!R41 -> 0 | AL14: =密封条几何!R42 -> 0 | AM14: =密封条几何!R43 -> 0 | AN14: =密封条几何!R44 -> 0 | AO14: =密封条几何!R45 -> 0 | AP14: =密封条几何!R46 -> 0 | AQ14: =密封条几何!R47 -> 0 | AR14: =密封条几何!R48 -> 0 | AS14: =密封条几何!R49 -> 0 | AT14: =密封条几何!R50 -> 0 | AU14: =密封条几何!R51 -> 0 | AV14: =密封条几何!R52 -> 0 | AW14: =密封条几何!R53 -> 0 | AX14: =密封条几何!R54 -> 0 | AY14: =密封条几何!R55 -> 0 | AZ14: =密封条几何!R56 -> 0 | BA14: =密封条几何!R57 -> 0 | BB14: =密封条几何!R58 -> 0 | BC14: =密封条几何!R59 -> 0 | BD14: =密封条几何!R60 -> 0 | BE14: =密封条几何!R61 -> 0 | BF14: =密封条几何!R62 -> 0 | BG14: =密封条几何!R63 -> 0 | BH14: =密封条几何!R64 -> 0 | BI14: =密封条几何!R65 -> 0 | BJ14: =密封条几何!R66 -> 0 | BK14: =密封条几何!R67 -> 0 | BL14: =密封条几何!R68 -> 0 | BM14: =密封条几何!R69 -> 0 | BN14: =密封条几何!R70 -> 0 | BO14: =密封条几何!R71 -> 0 | BP14: =密封条几何!R72 -> 0 | BQ14: =密封条几何!R73 -> 0 | BR14: =密封条几何!R74 -> 0 | BS14: =密封条几何!R75 -> 0 | BT14: =密封条几何!R76 -> 0 | BU14: =密封条几何!R77 -> 0 | BV14: =密封条几何!R78 -> 0 | BW14: =密封条几何!R79 -> 0 | BX14: =密封条几何!R80 -> 0 | BY14: =密封条几何!R81 -> 0 | BZ14: =密封条几何!R82 -> 0 | CA14: =密封条几何!R83 -> 0 | CB14: =密封条几何!R84 -> 0 | CC14: =密封条几何!R85 -> 0 | CD14: =密封条几何!R86 -> 0 | CE14: =密封条几何!R87 -> 0 | CF14: =密封条几何!R88 -> 0 | CG14: =密封条几何!R89 -> 0 | CH14: =密封条几何!R90 -> 0 | CI14: =密封条几何!R91 -> 0 | CJ14: =密封条几何!R92 -> 0 | CK14: =密封条几何!R93 -> 0 | CL14: =密封条几何!R94 -> 0 | CM14: =密封条几何!R95 -> 0 | CN14: =密封条几何!R96 -> 0 | CO14: =密封条几何!R97 -> 0 | CP14: =密封条几何!R98 -> 0 | CQ14: =密封条几何!R99 -> 0 | CR14: =密封条几何!R100 -> 0 | CS14: =密封条几何!R101 -> 0 | CT14: =密封条几何!R102 -> 0 | CU14: =密封条几何!R103 -> 0 | CV14: =密封条几何!R104 -> 0
A15: =密封条几何!S5 -> 0 | B15: =密封条几何!S6 -> 0 | C15: =密封条几何!S7 -> 0 | D15: =密封条几何!S8 -> 0 | E15: =密封条几何!S9 -> 0 | F15: =密封条几何!S10 -> 0 | G15: =密封条几何!S11 -> 0 | H15: =密封条几何!S12 -> 0 | I15: =密封条几何!S13 -> 0 | J15: =密封条几何!S14 -> 0 | K15: =密封条几何!S15 -> 0 | L15: =密封条几何!S16 -> 0 | M15: =密封条几何!S17 -> 0 | N15: =密封条几何!S18 -> 0 | O15: =密封条几何!S19 -> 0 | P15: =密封条几何!S20 -> 0 | Q15: =密封条几何!S21 -> 0 | R15: =密封条几何!S22 -> 0 | S15: =密封条几何!S23 -> 0 | T15: =密封条几何!S24 -> 0 | U15: =密封条几何!S25 -> 0 | V15: =密封条几何!S26 -> 0 | W15: =密封条几何!S27 -> 0 | X15: =密封条几何!S28 -> 0 | Y15: =密封条几何!S29 -> 0 | Z15: =密封条几何!S30 -> 0 | AA15: =密封条几何!S31 -> 0 | AB15: =密封条几何!S32 -> 0 | AC15: =密封条几何!S33 -> 0 | AD15: =密封条几何!S34 -> 0 | AE15: =密封条几何!S35 -> 0 | AF15: =密封条几何!S36 -> 0 | AG15: =密封条几何!S37 -> 0 | AH15: =密封条几何!S38 -> 0 | AI15: =密封条几何!S39 -> 0 | AJ15: =密封条几何!S40 -> 0 | AK15: =密封条几何!S41 -> 0 | AL15: =密封条几何!S42 -> 0 | AM15: =密封条几何!S43 -> 0 | AN15: =密封条几何!S44 -> 0 | AO15: =密封条几何!S45 -> 0 | AP15: =密封条几何!S46 -> 0 | AQ15: =密封条几何!S47 -> 0 | AR15: =密封条几何!S48 -> 0 | AS15: =密封条几何!S49 -> 0 | AT15: =密封条几何!S50 -> 0 | AU15: =密封条几何!S51 -> 0 | AV15: =密封条几何!S52 -> 0 | AW15: =密封条几何!S53 -> 0 | AX15: =密封条几何!S54 -> 0 | AY15: =密封条几何!S55 -> 0 | AZ15: =密封条几何!S56 -> 0 | BA15: =密封条几何!S57 -> 0 | BB15: =密封条几何!S58 -> 0 | BC15: =密封条几何!S59 -> 0 | BD15: =密封条几何!S60 -> 0 | BE15: =密封条几何!S61 -> 0 | BF15: =密封条几何!S62 -> 0 | BG15: =密封条几何!S63 -> 0 | BH15: =密封条几何!S64 -> 0 | BI15: =密封条几何!S65 -> 0 | BJ15: =密封条几何!S66 -> 0 | BK15: =密封条几何!S67 -> 0 | BL15: =密封条几何!S68 -> 0 | BM15: =密封条几何!S69 -> 0 | BN15: =密封条几何!S70 -> 0 | BO15: =密封条几何!S71 -> 0 | BP15: =密封条几何!S72 -> 0 | BQ15: =密封条几何!S73 -> 0 | BR15: =密封条几何!S74 -> 0 | BS15: =密封条几何!S75 -> 0 | BT15: =密封条几何!S76 -> 0 | BU15: =密封条几何!S77 -> 0 | BV15: =密封条几何!S78 -> 0 | BW15: =密封条几何!S79 -> 0 | BX15: =密封条几何!S80 -> 0 | BY15: =密封条几何!S81 -> 0 | BZ15: =密封条几何!S82 -> 0 | CA15: =密封条几何!S83 -> 0 | CB15: =密封条几何!S84 -> 0 | CC15: =密封条几何!S85 -> 0 | CD15: =密封条几何!S86 -> 0 | CE15: =密封条几何!S87 -> 0 | CF15: =密封条几何!S88 -> 0 | CG15: =密封条几何!S89 -> 0 | CH15: =密封条几何!S90 -> 0 | CI15: =密封条几何!S91 -> 0 | CJ15: =密封条几何!S92 -> 0 | CK15: =密封条几何!S93 -> 0 | CL15: =密封条几何!S94 -> 0 | CM15: =密封条几何!S95 -> 0 | CN15: =密封条几何!S96 -> 0 | CO15: =密封条几何!S97 -> 0 | CP15: =密封条几何!S98 -> 0 | CQ15: =密封条几何!S99 -> 0 | CR15: =密封条几何!S100 -> 0 | CS15: =密封条几何!S101 -> 0 | CT15: =密封条几何!S102 -> 0 | CU15: =密封条几何!S103 -> 0 | CV15: =密封条几何!S104 -> 0
A16: =密封条几何!T5 -> 0 | B16: =密封条几何!T6 -> 0 | C16: =密封条几何!T7 -> 0 | D16: =密封条几何!T8 -> 0 | E16: =密封条几何!T9 -> 0 | F16: =密封条几何!T10 -> 0 | G16: =密封条几何!T11 -> 0 | H16: =密封条几何!T12 -> 0 | I16: =密封条几何!T13 -> 0 | J16: =密封条几何!T14 -> 0 | K16: =密封条几何!T15 -> 0 | L16: =密封条几何!T16 -> 0 | M16: =密封条几何!T17 -> 0 | N16: =密封条几何!T18 -> 0 | O16: =密封条几何!T19 -> 0 | P16: =密封条几何!T20 -> 0 | Q16: =密封条几何!T21 -> 0 | R16: =密封条几何!T22 -> 0 | S16: =密封条几何!T23 -> 0 | T16: =密封条几何!T24 -> 0 | U16: =密封条几何!T25 -> 0 | V16: =密封条几何!T26 -> 0 | W16: =密封条几何!T27 -> 0 | X16: =密封条几何!T28 -> 0 | Y16: =密封条几何!T29 -> 0 | Z16: =密封条几何!T30 -> 0 | AA16: =密封条几何!T31 -> 0 | AB16: =密封条几何!T32 -> 0 | AC16: =密封条几何!T33 -> 0 | AD16: =密封条几何!T34 -> 0 | AE16: =密封条几何!T35 -> 0 | AF16: =密封条几何!T36 -> 0 | AG16: =密封条几何!T37 -> 0 | AH16: =密封条几何!T38 -> 0 | AI16: =密封条几何!T39 -> 0 | AJ16: =密封条几何!T40 -> 0 | AK16: =密封条几何!T41 -> 0 | AL16: =密封条几何!T42 -> 0 | AM16: =密封条几何!T43 -> 0 | AN16: =密封条几何!T44 -> 0 | AO16: =密封条几何!T45 -> 0 | AP16: =密封条几何!T46 -> 0 | AQ16: =密封条几何!T47 -> 0 | AR16: =密封条几何!T48 -> 0 | AS16: =密封条几何!T49 -> 0 | AT16: =密封条几何!T50 -> 0 | AU16: =密封条几何!T51 -> 0 | AV16: =密封条几何!T52 -> 0 | AW16: =密封条几何!T53 -> 0 | AX16: =密封条几何!T54 -> 0 | AY16: =密封条几何!T55 -> 0 | AZ16: =密封条几何!T56 -> 0 | BA16: =密封条几何!T57 -> 0 | BB16: =密封条几何!T58 -> 0 | BC16: =密封条几何!T59 -> 0 | BD16: =密封条几何!T60 -> 0 | BE16: =密封条几何!T61 -> 0 | BF16: =密封条几何!T62 -> 0 | BG16: =密封条几何!T63 -> 0 | BH16: =密封条几何!T64 -> 0 | BI16: =密封条几何!T65 -> 0 | BJ16: =密封条几何!T66 -> 0 | BK16: =密封条几何!T67 -> 0 | BL16: =密封条几何!T68 -> 0 | BM16: =密封条几何!T69 -> 0 | BN16: =密封条几何!T70 -> 0 | BO16: =密封条几何!T71 -> 0 | BP16: =密封条几何!T72 -> 0 | BQ16: =密封条几何!T73 -> 0 | BR16: =密封条几何!T74 -> 0 | BS16: =密封条几何!T75 -> 0 | BT16: =密封条几何!T76 -> 0 | BU16: =密封条几何!T77 -> 0 | BV16: =密封条几何!T78 -> 0 | BW16: =密封条几何!T79 -> 0 | BX16: =密封条几何!T80 -> 0 | BY16: =密封条几何!T81 -> 0 | BZ16: =密封条几何!T82 -> 0 | CA16: =密封条几何!T83 -> 0 | CB16: =密封条几何!T84 -> 0 | CC16: =密封条几何!T85 -> 0 | CD16: =密封条几何!T86 -> 0 | CE16: =密封条几何!T87 -> 0 | CF16: =密封条几何!T88 -> 0 | CG16: =密封条几何!T89 -> 0 | CH16: =密封条几何!T90 -> 0 | CI16: =密封条几何!T91 -> 0 | CJ16: =密封条几何!T92 -> 0 | CK16: =密封条几何!T93 -> 0 | CL16: =密封条几何!T94 -> 0 | CM16: =密封条几何!T95 -> 0 | CN16: =密封条几何!T96 -> 0 | CO16: =密封条几何!T97 -> 0 | CP16: =密封条几何!T98 -> 0 | CQ16: =密封条几何!T99 -> 0 | CR16: =密封条几何!T100 -> 0 | CS16: =密封条几何!T101 -> 0 | CT16: =密封条几何!T102 -> 0 | CU16: =密封条几何!T103 -> 0 | CV16: =密封条几何!T104 -> 0
A17: =密封条CLD参数!B3 -> 7 | B17: =偏差设置!C10 -> 0 | C17: =偏差设置!C5 -> 1 | M17: =密封条CLD参数!D3 -> 5.5 | N17: =偏差设置!D10 -> 0 | O17: =偏差设置!D5 -> 1 | Y17: =密封条CLD参数!F3 -> 6.5 | Z17: =偏差设置!E10 -> 0 | AA17: =偏差设置!E5 -> 1 | AK17: =密封条CLD参数!H3 -> 6 | AL17: =偏差设置!F10 -> 0 | AM17: =偏差设置!F5 -> 1 | AW17: =密封条CLD参数!J3 -> 6.5 | AX17: =偏差设置!G10 -> 0 | AY17: =偏差设置!G5 -> 1 | BI17: =密封条CLD参数!L3 -> 0 | BJ17: =偏差设置!H10 -> 0 | BK17: =偏差设置!H5 -> 1 | CO17: =车门总成!D14 -> 5194.8 | CP17: =车门总成!E14 -> 588.7 | CQ17: =车门总成!F14 -> 2089.385 | CR17: =车门总成!G14 -> 0 | CS17: =车门总成!H14 -> 0 | CT17: =车门总成!D20 -> 4000 | CU17: =车门总成!E20 -> 558.9 | CV17: =车门总成!F20 -> 1000
A18: =密封条CLD参数!N3 -> 2.5 | B18: =偏差设置!C11 -> 0 | C18: =偏差设置!C6 -> 1 | M18: =密封条CLD参数!P3 -> 4.7 | N18: =偏差设置!D11 -> 0 | O18: =偏差设置!D6 -> 1 | Y18: =密封条CLD参数!R3 -> 4.7 | Z18: =偏差设置!E11 -> 0 | AA18: =偏差设置!E6 -> 1 | AK18: =密封条CLD参数!T3 -> 4.7 | AL18: =偏差设置!F11 -> 0 | AM18: =偏差设置!F6 -> 1 | AW18: =密封条CLD参数!V3 -> 4.7 | AX18: =偏差设置!G11 -> 0 | AY18: =偏差设置!G6 -> 1 | BI18: =密封条CLD参数!X3 -> 0 | BJ18: =偏差设置!H11 -> 0 | BK18: =偏差设置!H6 -> 1 | CO18: =车门总成!D15 -> 5538.31 | CP18: =车门总成!E15 -> 672.21 | CQ18: =车门总成!F15 -> 1741.256 | CR18: =车门总成!G15 -> 0 | CS18: =车门总成!H15 -> 0 | CT18: =车门总成!D19 -> 5544 | CU18: =车门总成!E19 -> 350 | CV18: =车门总成!F19 -> 1256
A19: =密封条CLD参数!Z3 -> 0 | B19: =偏差设置!C12 -> 0 | C19: =偏差设置!C7 -> 1 | M19: =密封条CLD参数!AB3 -> 5.5 | N19: =偏差设置!D12 -> 0 | O19: =偏差设置!D7 -> 1 | Y19: =密封条CLD参数!AD3 -> 4.75 | Z19: =偏差设置!E12 -> 0 | AA19: =偏差设置!E7 -> 1 | AK19: =密封条CLD参数!AF3 -> 0 | AL19: =偏差设置!F12 -> 0 | AM19: =偏差设置!F7 -> 1 | AW19: =密封条CLD参数!AH3 -> 0 | AX19: =偏差设置!G12 -> 0 | AY19: =偏差设置!G7 -> 1 | BI19: =密封条CLD参数!AJ3 -> 0 | BJ19: =偏差设置!H12 -> 0 | BK19: =偏差设置!H7 -> 1 | CO19: =车门总成!D16 -> 0 | CP19: =车门总成!E16 -> 0 | CQ19: =车门总成!F16 -> 0 | CR19: =车门总成!G16 -> 0 | CS19: =车门总成!H16 -> 0 | CT19: =车门总成!D18 -> 5680 | CU19: =车门总成!E18 -> 424 | CV19: =车门总成!F18 -> 1197
A20: 0 | B20: =平衡件!C3 -> 0 | C20: =平衡件!C4 -> 149.7 | D20: =平衡件!C5 -> 0 | E20: =平衡件!C6 -> 0 | F20: =平衡件!C7 -> 0 | G20: =平衡件!C8 -> 0 | H20: =平衡件!C9 -> 0 | I20: =平衡件!C10 -> 0 | J20: =平衡件!C11 -> 0 | K20: =平衡件!C12 -> 0 | L20: =平衡件!C13 -> 0 | M20: =平衡件!C14 -> 0 | N20: =平衡件!C15 -> 0 | O20: =平衡件!C16 -> 0 | P20: =平衡件!C17 -> 0 | Q20: =平衡件!C18 -> 0 | R20: =平衡件!C19 -> 0 | S20: =平衡件!C20 -> 0 | T20: =平衡件!C21 -> 0 | U20: =平衡件!C22 -> 0 | V20: =平衡件!C23 -> 1 | W20: =平衡件!C24 -> 0 | X20: =平衡件!C25 -> 0 | Y20: =平衡件!C26 -> 0 | Z20: =平衡件!C27 -> 0 | AA20: =平衡件!C28 -> 0 | AB20: =平衡件!C29 -> 0 | AC20: =平衡件!C30 -> 0 | AD20: =平衡件!C31 -> 0 | AE20: =平衡件!C32 -> 0 | AF20: =平衡件!C33 -> 0 | AG20: =平衡件!C34 -> 0 | AH20: =平衡件!C35 -> 0 | AI20: =平衡件!C36 -> 0 | AJ20: =平衡件!C37 -> 0 | AK20: =平衡件!C38 -> 0 | AL20: =平衡件!C39 -> 0 | AM20: =平衡件!C40 -> 0 | AN20: =平衡件!C41 -> 0 | AO20: =平衡件!C42 -> 0 | AP20: =平衡件!C43 -> 0 | AQ20: =平衡件!C44 -> 0 | AR20: =平衡件!C45 -> 0 | AS20: =平衡件!C46 -> 0 | AT20: =平衡件!C47 -> 0 | AU20: =平衡件!C48 -> 0 | AV20: =平衡件!C49 -> 0 | AW20: =平衡件!C50 -> 0 | AX20: =平衡件!C51 -> 0 | AY20: =平衡件!C52 -> 0 | AZ20: =平衡件!C53 -> 0 | BA20: =平衡件!C54 -> 0 | BB20: =平衡件!C55 -> 0 | BC20: =平衡件!C56 -> 0 | BD20: =平衡件!C57 -> 0 | BE20: =平衡件!C58 -> 0 | BF20: =平衡件!C59 -> 0 | BG20: =平衡件!C60 -> 0 | BH20: =平衡件!C61 -> 0 | BI20: =平衡件!C62 -> 0 | BJ20: =平衡件!C63 -> 0 | BK20: =平衡件!C64 -> 0 | BL20: =平衡件!C65 -> 0 | BM20: =平衡件!C66 -> 0 | BN20: =平衡件!C67 -> 0 | BO20: =平衡件!C68 -> 0 | BP20: =平衡件!C69 -> 0 | BQ20: =平衡件!C70 -> 0 | BR20: =平衡件!C71 -> 0 | BS20: =平衡件!C72 -> 0 | BT20: =平衡件!C73 -> 0 | BU20: =平衡件!C74 -> 0 | BV20: =平衡件!C75 -> 0 | BW20: =平衡件!C76 -> 0 | BX20: =平衡件!C77 -> 0 | BY20: =平衡件!C78 -> 0 | BZ20: =平衡件!C79 -> 0 | CA20: =平衡件!C80 -> 0 | CB20: =平衡件!C81 -> 0 | CC20: =平衡件!C82 -> 0 | CD20: =平衡件!C83 -> 0 | CE20: =平衡件!C84 -> 0 | CF20: =平衡件!C85 -> 0 | CG20: =平衡件!C86 -> 0 | CH20: =平衡件!C87 -> 0 | CI20: =平衡件!C88 -> 0 | CJ20: =平衡件!C89 -> 0 | CK20: =平衡件!C90 -> 0 | CL20: =平衡件!C91 -> 0 | CM20: =平衡件!C92 -> 0 | CO20: =车门总成!D17 -> 0 | CP20: =车门总成!E17 -> 0 | CQ20: =车门总成!F17 -> 0 | CR20: =车门总成!G17 -> 0 | CS20: =车门总成!H17 -> 0 | CT20: =车门总成!D21 -> 5610.3 | CU20: =车门总成!E21 -> 0 | CV20: =车门总成!F21 -> 1230.45
A21: =COUNTA(平衡件!C3:C92) -> 3 | B21: =平衡件!D3 -> 1251.9 | C21: =平衡件!D4 -> 737.2 | D21: =平衡件!D5 -> 0 | E21: =平衡件!D6 -> 0 | F21: =平衡件!D7 -> 0 | G21: =平衡件!D8 -> 0 | H21: =平衡件!D9 -> 0 | I21: =平衡件!D10 -> 0 | J21: =平衡件!D11 -> 0 | K21: =平衡件!D12 -> 0 | L21: =平衡件!D13 -> 0 | M21: =平衡件!D14 -> 0 | N21: =平衡件!D15 -> 0 | O21: =平衡件!D16 -> 0 | P21: =平衡件!D17 -> 0 | Q21: =平衡件!D18 -> 0 | R21: =平衡件!D19 -> 0 | S21: =平衡件!D20 -> 0 | T21: =平衡件!D21 -> 0 | U21: =平衡件!D22 -> 0 | V21: =平衡件!D23 -> 0 | W21: =平衡件!D24 -> 0 | X21: =平衡件!D25 -> 0 | Y21: =平衡件!D26 -> 0 | Z21: =平衡件!D27 -> 0 | AA21: =平衡件!D28 -> 0 | AB21: =平衡件!D29 -> 0 | AC21: =平衡件!D30 -> 0 | AD21: =平衡件!D31 -> 0 | AE21: =平衡件!D32 -> 0 | AF21: =平衡件!D33 -> 0 | AG21: =平衡件!D34 -> 0 | AH21: =平衡件!D35 -> 0 | AI21: =平衡件!D36 -> 0 | AJ21: =平衡件!D37 -> 0 | AK21: =平衡件!D38 -> 0 | AL21: =平衡件!D39 -> 0 | AM21: =平衡件!D40 -> 0 | AN21: =平衡件!D41 -> 0 | AO21: =平衡件!D42 -> 0 | AP21: =平衡件!D43 -> 0 | AQ21: =平衡件!D44 -> 0 | AR21: =平衡件!D45 -> 0 | AS21: =平衡件!D46 -> 0 | AT21: =平衡件!D47 -> 0 | AU21: =平衡件!D48 -> 0 | AV21: =平衡件!D49 -> 0 | AW21: =平衡件!D50 -> 0 | AX21: =平衡件!D51 -> 0 | AY21: =平衡件!D52 -> 0 | AZ21: =平衡件!D53 -> 0 | BA21: =平衡件!D54 -> 0 | BB21: =平衡件!D55 -> 0 | BC21: =平衡件!D56 -> 0 | BD21: =平衡件!D57 -> 0 | BE21: =平衡件!D58 -> 0 | BF21: =平衡件!D59 -> 0 | BG21: =平衡件!D60 -> 0 | BH21: =平衡件!D61 -> 0 | BI21: =平衡件!D62 -> 0 | BJ21: =平衡件!D63 -> 0 | BK21: =平衡件!D64 -> 0 | BL21: =平衡件!D65 -> 0 | BM21: =平衡件!D66 -> 0 | BN21: =平衡件!D67 -> 0 | BO21: =平衡件!D68 -> 0 | BP21: =平衡件!D69 -> 0 | BQ21: =平衡件!D70 -> 0 | BR21: =平衡件!D71 -> 0 | BS21: =平衡件!D72 -> 0 | BT21: =平衡件!D73 -> 0 | BU21: =平衡件!D74 -> 0 | BV21: =平衡件!D75 -> 0 | BW21: =平衡件!D76 -> 0 | BX21: =平衡件!D77 -> 0 | BY21: =平衡件!D78 -> 0 | BZ21: =平衡件!D79 -> 0 | CA21: =平衡件!D80 -> 0 | CB21: =平衡件!D81 -> 0 | CC21: =平衡件!D82 -> 0 | CD21: =平衡件!D83 -> 0 | CE21: =平衡件!D84 -> 0 | CF21: =平衡件!D85 -> 0 | CG21: =平衡件!D86 -> 0 | CH21: =平衡件!D87 -> 0 | CI21: =平衡件!D88 -> 0 | CJ21: =平衡件!D89 -> 0 | CK21: =平衡件!D90 -> 0 | CL21: =平衡件!D91 -> 0 | CM21: =平衡件!D92 -> 0 | CS21: =车门总成!D8 -> 0 | CT21: =车门总成!E8 -> 0 | CU21: =车门总成!F8 -> 0 | CV21: =车门总成!G8 -> 0
A22: =偏差设置!C2 -> 1 | B22: =平衡件!E3 -> 1301.9 | C22: =平衡件!E4 -> 787.2 | D22: =平衡件!E5 -> 0 | E22: =平衡件!E6 -> 0 | F22: =平衡件!E7 -> 0 | G22: =平衡件!E8 -> 0 | H22: =平衡件!E9 -> 0 | I22: =平衡件!E10 -> 0 | J22: =平衡件!E11 -> 0 | K22: =平衡件!E12 -> 0 | L22: =平衡件!E13 -> 0 | M22: =平衡件!E14 -> 0 | N22: =平衡件!E15 -> 0 | O22: =平衡件!E16 -> 0 | P22: =平衡件!E17 -> 0 | Q22: =平衡件!E18 -> 0 | R22: =平衡件!E19 -> 0 | S22: =平衡件!E20 -> 0 | T22: =平衡件!E21 -> 0 | U22: =平衡件!E22 -> 0 | V22: =平衡件!E23 -> 0 | W22: =平衡件!E24 -> 0 | X22: =平衡件!E25 -> 0 | Y22: =平衡件!E26 -> 0 | Z22: =平衡件!E27 -> 0 | AA22: =平衡件!E28 -> 0 | AB22: =平衡件!E29 -> 0 | AC22: =平衡件!E30 -> 0 | AD22: =平衡件!E31 -> 0 | AE22: =平衡件!E32 -> 0 | AF22: =平衡件!E33 -> 0 | AG22: =平衡件!E34 -> 0 | AH22: =平衡件!E35 -> 0 | AI22: =平衡件!E36 -> 0 | AJ22: =平衡件!E37 -> 0 | AK22: =平衡件!E38 -> 0 | AL22: =平衡件!E39 -> 0 | AM22: =平衡件!E40 -> 0 | AN22: =平衡件!E41 -> 0 | AO22: =平衡件!E42 -> 0 | AP22: =平衡件!E43 -> 0 | AQ22: =平衡件!E44 -> 0 | AR22: =平衡件!E45 -> 0 | AS22: =平衡件!E46 -> 0 | AT22: =平衡件!E47 -> 0 | AU22: =平衡件!E48 -> 0 | AV22: =平衡件!E49 -> 0 | AW22: =平衡件!E50 -> 0 | AX22: =平衡件!E51 -> 0 | AY22: =平衡件!E52 -> 0 | AZ22: =平衡件!E53 -> 0 | BA22: =平衡件!E54 -> 0 | BB22: =平衡件!E55 -> 0 | BC22: =平衡件!E56 -> 0 | BD22: =平衡件!E57 -> 0 | BE22: =平衡件!E58 -> 0 | BF22: =平衡件!E59 -> 0 | BG22: =平衡件!E60 -> 0 | BH22: =平衡件!E61 -> 0 | BI22: =平衡件!E62 -> 0 | BJ22: =平衡件!E63 -> 0 | BK22: =平衡件!E64 -> 0 | BL22: =平衡件!E65 -> 0 | BM22: =平衡件!E66 -> 0 | BN22: =平衡件!E67 -> 0 | BO22: =平衡件!E68 -> 0 | BP22: =平衡件!E69 -> 0 | BQ22: =平衡件!E70 -> 0 | BR22: =平衡件!E71 -> 0 | BS22: =平衡件!E72 -> 0 | BT22: =平衡件!E73 -> 0 | BU22: =平衡件!E74 -> 0 | BV22: =平衡件!E75 -> 0 | BW22: =平衡件!E76 -> 0 | BX22: =平衡件!E77 -> 0 | BY22: =平衡件!E78 -> 0 | BZ22: =平衡件!E79 -> 0 | CA22: =平衡件!E80 -> 0 | CB22: =平衡件!E81 -> 0 | CC22: =平衡件!E82 -> 0 | CD22: =平衡件!E83 -> 0 | CE22: =平衡件!E84 -> 0 | CF22: =平衡件!E85 -> 0 | CG22: =平衡件!E86 -> 0 | CH22: =平衡件!E87 -> 0 | CI22: =平衡件!E88 -> 0 | CJ22: =平衡件!E89 -> 0 | CK22: =平衡件!E90 -> 0 | CL22: =平衡件!E91 -> 0 | CM22: =平衡件!E92 -> 0 | CS22: =车门总成!D9 -> 0 | CT22: =车门总成!E9 -> 0 | CU22: =车门总成!F9 -> 0 | CV22: =车门总成!G9 -> 0
A23: 0 | B23: 1 | C23: 3 | D23: =锁!B5 -> 20 | E23: =COUNTA(锁!A9:A48) -> 12 | F23: =偏差设置!C3 -> 1 | G23: =锁!A9 -> -1 | H23: =锁!A10 -> 0 | I23: =锁!A11 -> 1 | J23: =锁!A12 -> 2 | K23: =锁!A13 -> 3 | L23: =锁!A14 -> 4 | M23: =锁!A15 -> 5 | N23: =锁!A16 -> 6 | O23: =锁!A17 -> 7 | P23: =锁!A18 -> 8 | Q23: =锁!A19 -> 9 | R23: =锁!A20 -> 10 | S23: =锁!A21 -> 0 | T23: =锁!A22 -> 0 | U23: =锁!A23 -> 0 | V23: =锁!A24 -> 0 | W23: =锁!A25 -> 0 | X23: =锁!A26 -> 0 | Y23: =锁!A27 -> 0 | Z23: =锁!A28 -> 0 | AA23: =锁!A29 -> 0 | AB23: =锁!A30 -> 0 | AC23: =锁!A31 -> 0 | AD23: =锁!A32 -> 0 | AE23: =锁!A33 -> 0 | AF23: =锁!A34 -> 0 | AG23: =锁!A35 -> 0 | AH23: =锁!A36 -> 0 | AI23: =锁!A37 -> 0 | AJ23: =锁!A38 -> 0 | AK23: =锁!A39 -> 0 | AL23: =锁!A40 -> 0 | AM23: =锁!A41 -> 0 | AN23: =锁!A42 -> 0 | AO23: =锁!A43 -> 0 | AP23: =锁!A44 -> 0 | AQ23: =锁!A45 -> 0 | AR23: =锁!A46 -> 0 | AS23: =锁!A47 -> 0 | AT23: =锁!A48 -> 0 | AU23: =COUNTA(整车泄露量输入!A2:A40) -> 2 | AV23: =整车泄露量输入!A2 -> 0 | AW23: =整车泄露量输入!A3 -> 125 | AX23: =整车泄露量输入!A4 -> 0 | AY23: =整车泄露量输入!A5 -> 0 | AZ23: =整车泄露量输入!A6 -> 0 | BA23: =整车泄露量输入!A7 -> 0 | BB23: =整车泄露量输入!A8 -> 0 | BC23: =整车泄露量输入!A9 -> 0 | BD23: =整车泄露量输入!A10 -> 0 | BE23: =整车泄露量输入!A11 -> 0 | BF23: =整车泄露量输入!A12 -> 0 | BG23: =整车泄露量输入!A13 -> 0 | BH23: =整车泄露量输入!A14 -> 0 | BI23: =整车泄露量输入!A15 -> 0 | BJ23: =整车泄露量输入!A16 -> 0 | BK23: =整车泄露量输入!A17 -> 0 | BL23: =整车泄露量输入!A18 -> 0 | BM23: =整车泄露量输入!A19 -> 0 | BN23: =整车泄露量输入!A20 -> 0 | BO23: =整车泄露量输入!A21 -> 0 | BP23: =整车泄露量输入!A22 -> 0 | BQ23: =整车泄露量输入!A23 -> 0 | BR23: =整车泄露量输入!A24 -> 0 | BS23: =整车泄露量输入!A25 -> 0 | BT23: =整车泄露量输入!A26 -> 0 | BU23: =整车泄露量输入!A27 -> 0 | BV23: =整车泄露量输入!A28 -> 0 | BW23: =整车泄露量输入!A29 -> 0 | BX23: =整车泄露量输入!A30 -> 0 | BY23: =整车泄露量输入!A31 -> 0 | BZ23: =其他设置!H1 -> 80 | CA23: =其他设置!H2 -> 20 | CB23: =其他设置!H3 -> -30 | CC23: =其他设置!H4 -> 20 | CD23: 0 | CE23: =平衡件!B4 -> 10 | CF23: 15 | CG23: 0 | CH23: 0 | CI23: =平衡件!B5 -> 22 | CJ23: 1.3 | CK23: 0 | CL23: TRUE | CM23: 1 | CN23: FALSE | CO23: 0 | CP23: 0 | CQ23: 0 | CR23: 0 | CS23: =车门总成!D10 -> 0 | CT23: =车门总成!E10 -> 0 | CU23: =车门总成!F10 -> 0 | CV23: =车门总成!G10 -> 0
A24: 0 | B24: 0 | C24: 0 | D24: 0 | E24: 0 | F24: 0 | G24: =锁!B9 -> 132 | H24: =锁!B10 -> 37 | I24: =锁!B11 -> 25 | J24: =锁!B12 -> 20 | K24: =锁!B13 -> 16 | L24: =锁!B14 -> 15 | M24: =锁!B15 -> 7 | N24: =锁!B16 -> 4 | O24: =锁!B17 -> 2 | P24: =锁!B18 -> 1 | Q24: =锁!B19 -> 1 | R24: =锁!B20 -> 0 | S24: =锁!B21 -> 0 | T24: =锁!B22 -> 0 | U24: =锁!B23 -> 0 | V24: =锁!B24 -> 0 | W24: =锁!B25 -> 0 | X24: =锁!B26 -> 0 | Y24: =锁!B27 -> 0 | Z24: =锁!B28 -> 0 | AA24: =锁!B29 -> 0 | AB24: =锁!B30 -> 0 | AC24: =锁!B31 -> 0 | AD24: =锁!B32 -> 0 | AE24: =锁!B33 -> 0 | AF24: =锁!B34 -> 0 | AG24: =锁!B35 -> 0 | AH24: =锁!B36 -> 0 | AI24: =锁!B37 -> 0 | AJ24: =锁!B38 -> 0 | AK24: =锁!B39 -> 0 | AL24: =锁!B40 -> 0 | AM24: =锁!B41 -> 0 | AN24: =锁!B42 -> 0 | AO24: =锁!B43 -> 0 | AP24: =锁!B44 -> 0 | AQ24: =锁!B45 -> 0 | AR24: =锁!B46 -> 0 | AS24: =锁!B47 -> 0 | AT24: =锁!B48 -> 0 | AU24: 1 | AV24: =整车泄露量输入!B2 -> 0 | AW24: =整车泄露量输入!B3 -> 100 | AX24: =整车泄露量输入!B4 -> 0 | AY24: =整车泄露量输入!B5 -> 0 | AZ24: =整车泄露量输入!B6 -> 0 | BA24: =整车泄露量输入!B7 -> 0 | BB24: =整车泄露量输入!B8 -> 0 | BC24: =整车泄露量输入!B9 -> 0 | BD24: =整车泄露量输入!B10 -> 0 | BE24: =整车泄露量输入!B11 -> 0 | BF24: =整车泄露量输入!B12 -> 0 | BG24: =整车泄露量输入!B13 -> 0 | BH24: =整车泄露量输入!B14 -> 0 | BI24: =整车泄露量输入!B15 -> 0 | BJ24: =整车泄露量输入!B16 -> 0 | BK24: =整车泄露量输入!B17 -> 0 | BL24: =整车泄露量输入!B18 -> 0 | BM24: =整车泄露量输入!B19 -> 0 | BN24: =整车泄露量输入!B20 -> 0 | BO24: =整车泄露量输入!B21 -> 0 | BP24: =整车泄露量输入!B22 -> 0 | BQ24: =整车泄露量输入!B23 -> 0 | BR24: =整车泄露量输入!B24 -> 0 | BS24: =整车泄露量输入!B25 -> 0 | BT24: =整车泄露量输入!B26 -> 0 | BU24: =整车泄露量输入!B27 -> 0 | BV24: =整车泄露量输入!B28 -> 0 | BW24: =整车泄露量输入!B29 -> 0 | BX24: =整车泄露量输入!B30 -> 0 | BY24: =整车泄露量输入!B31 -> 0 | BZ24: 0 | CA24: 0 | CB24: 0 | CC24: 0 | CD24: 1 | CE24: =平衡件!B6 -> 0 | CF24: 15 | CG24: 0 | CH24: 0 | CI24: =平衡件!B7 -> 0 | CJ24: 1.3 | CK24: 0 | CL24: 0 | CM24: 1 | CN24: FALSE | CO24: 0 | CP24: 0 | CQ24: 0 | CR24: 0 | CS24: =车门总成!D11 -> 0 | CT24: =车门总成!E11 -> 0 | CU24: =车门总成!F11 -> 0 | CV24: =车门总成!G11 -> 0

Sheet CLD inputpage
A1: =密封条CLD参数!A5 -> 0 | B1: =密封条CLD参数!B5 -> 0 | C1: =密封条CLD参数!C5 -> 0 | D1: =密封条CLD参数!D5 -> 0 | E1: =密封条CLD参数!E5 -> 0 | F1: =密封条CLD参数!F5 -> 0 | G1: =密封条CLD参数!G5 -> 0 | H1: =密封条CLD参数!H5 -> 0 | ... AJ1: =密封条CLD参数!AJ5 -> 0
A2: =密封条CLD参数!A6 -> 1 | B2: =密封条CLD参数!B6 -> 1 | C2: =密封条CLD参数!C6 -> 0 | D2: =密封条CLD参数!D6 -> 0 | E2: =密封条CLD参数!E6 -> 0 | F2: =密封条CLD参数!F6 -> 0 | G2: =密封条CLD参数!G6 -> 0 | H2: =密封条CLD参数!H6 -> 0 | ... AJ2: =密封条CLD参数!AJ6 -> 0
